BEGIN:VCALENDAR
VERSION:2.0
PRODID:-//Children&#039;s Museum of Discovery - ECPv6.10.1.1//NONSGML v1.0//EN
CALSCALE:GREGORIAN
METHOD:PUBLISH
X-WR-CALNAME:Children&#039;s Museum of Discovery
X-ORIGINAL-URL:https://visitcmod.org
X-WR-CALDESC:Events for Children&#039;s Museum of Discovery
REFRESH-INTERVAL;VALUE=DURATION:PT1H
X-Robots-Tag:noindex
X-PUBLISHED-TTL:PT1H
BEGIN:VTIMEZONE
TZID:America/Los_Angeles
BEGIN:DAYLIGHT
TZOFFSETFROM:-0800
TZOFFSETTO:-0700
TZNAME:PDT
DTSTART:20260308T100000
END:DAYLIGHT
BEGIN:STANDARD
TZOFFSETFROM:-0700
TZOFFSETTO:-0800
TZNAME:PST
DTSTART:20261101T090000
END:STANDARD
END:VTIMEZONE
BEGIN:VEVENT
DTSTART;VALUE=DATE:20260226
DTEND;VALUE=DATE:20260227
DTSTAMP:20260423T180736
CREATED:20260116T192148Z
LAST-MODIFIED:20260116T192252Z
UID:10016286-1772064000-1772150399@visitcmod.org
SUMMARY:Museum Month
DESCRIPTION:Throughout the month of February\, families can use the Museum Month pass and receive 50% off admission for up to 4 people at over 70 San Diego museums and sites! Pick up your pass at any San Diego public library or download a digital pass today.\n\n\n \n\n\n*Passes exclude special events. Cannot be combined with other offers.
URL:https://visitcmod.org/events/museum-month-2/2026-02-26/
LOCATION:Children’s Museum of Discovery\, 320 North Broadway\, Escondido\, CA\, 92025\, United States
ATTACH;FMTTYPE=image/png:https://visitcmod.org/wp-content/uploads/2026/01/Museum-Month-2026-Logo-No-background.png
END:VEVENT
BEGIN:VEVENT
DTSTART;TZID=America/Los_Angeles:20260226T100000
DTEND;TZID=America/Los_Angeles:20260226T103000
DTSTAMP:20260423T180736
CREATED:20251022T211242Z
LAST-MODIFIED:20260406T175712Z
UID:10016102-1772100000-1772101800@visitcmod.org
SUMMARY:Bilingual Fossil Talk
DESCRIPTION:Enjoy Fossil Talk in Spanish! \nJoin us in Base Camp and learn about different fossils!
URL:https://visitcmod.org/events/bilingual-tortoise-talk-2/2026-02-26/
LOCATION:Children’s Museum of Discovery\, 320 North Broadway\, Escondido\, CA\, 92025\, United States
CATEGORIES:Science
ATTACH;FMTTYPE=image/png:https://visitcmod.org/wp-content/uploads/2025/10/Fossil-Talk.png
END:VEVENT
BEGIN:VEVENT
DTSTART;TZID=America/Los_Angeles:20260226T110000
DTEND;TZID=America/Los_Angeles:20260226T113000
DTSTAMP:20260423T180736
CREATED:20260123T194618Z
LAST-MODIFIED:20260416T190435Z
UID:10016944-1772103600-1772105400@visitcmod.org
SUMMARY:Bilingual Garden Workshop
DESCRIPTION:Enjoy a Garden Workshop with our Educators in Spanish!
URL:https://visitcmod.org/events/bilingual-garden-workshop-20/2026-02-26/
LOCATION:Children’s Museum of Discovery\, 320 North Broadway\, Escondido\, CA\, 92025\, United States
CATEGORIES:Art,STEM / STEAM
ATTACH;FMTTYPE=image/png:https://visitcmod.org/wp-content/uploads/2025/10/garden-workshop-general.png
END:VEVENT
BEGIN:VEVENT
DTSTART;TZID=America/Los_Angeles:20260226T120000
DTEND;TZID=America/Los_Angeles:20260226T130000
DTSTAMP:20260423T180736
CREATED:20260123T201019Z
LAST-MODIFIED:20260123T201019Z
UID:10017360-1772107200-1772110800@visitcmod.org
SUMMARY:Bilingual Family Workshop
DESCRIPTION:Enjoy our Family Workshop in Spanish. \nLet’s learn about measurement! \nWe will be making an inchworm friend and using it to learn about length and height.
URL:https://visitcmod.org/events/bilingual-family-workshop-30/2026-02-26/
LOCATION:Children’s Museum of Discovery\, 320 North Broadway\, Escondido\, CA\, 92025\, United States
CATEGORIES:Art,STEM / STEAM
ATTACH;FMTTYPE=image/jpeg:https://visitcmod.org/wp-content/uploads/2026/01/IMG_3383_1x1.jpg
END:VEVENT
BEGIN:VEVENT
DTSTART;TZID=America/Los_Angeles:20260226T150000
DTEND;TZID=America/Los_Angeles:20260226T160000
DTSTAMP:20260423T180737
CREATED:20260123T201054Z
LAST-MODIFIED:20260123T201054Z
UID:10017364-1772118000-1772121600@visitcmod.org
SUMMARY:Bilingual Family Workshop
DESCRIPTION:Enjoy our Family Workshop in Spanish. \nLet’s learn about measurement! \nWe will be making an inchworm friend and using it to learn about length and height.
URL:https://visitcmod.org/events/bilingual-family-workshop-31/2026-02-26/
LOCATION:Children’s Museum of Discovery\, 320 North Broadway\, Escondido\, CA\, 92025\, United States
CATEGORIES:Art,STEM / STEAM
ATTACH;FMTTYPE=image/jpeg:https://visitcmod.org/wp-content/uploads/2026/01/IMG_3383_1x1.jpg
END:VEVENT
END:VCALENDAR