BEGIN:VCALENDAR
VERSION:2.0
PRODID:-//Children&#039;s Museum of Discovery - ECPv6.10.1.1//NONSGML v1.0//EN
CALSCALE:GREGORIAN
METHOD:PUBLISH
X-WR-CALNAME:Children&#039;s Museum of Discovery
X-ORIGINAL-URL:https://visitcmod.org
X-WR-CALDESC:Events for Children&#039;s Museum of Discovery
REFRESH-INTERVAL;VALUE=DURATION:PT1H
X-Robots-Tag:noindex
X-PUBLISHED-TTL:PT1H
BEGIN:VTIMEZONE
TZID:America/Los_Angeles
BEGIN:DAYLIGHT
TZOFFSETFROM:-0800
TZOFFSETTO:-0700
TZNAME:PDT
DTSTART:20260308T100000
END:DAYLIGHT
BEGIN:STANDARD
TZOFFSETFROM:-0700
TZOFFSETTO:-0800
TZNAME:PST
DTSTART:20261101T090000
END:STANDARD
END:VTIMEZONE
BEGIN:VEVENT
DTSTART;VALUE=DATE:20260228
DTEND;VALUE=DATE:20260301
DTSTAMP:20260423T152951
CREATED:20260116T192148Z
LAST-MODIFIED:20260116T192252Z
UID:10016288-1772236800-1772323199@visitcmod.org
SUMMARY:Museum Month
DESCRIPTION:Throughout the month of February\, families can use the Museum Month pass and receive 50% off admission for up to 4 people at over 70 San Diego museums and sites! Pick up your pass at any San Diego public library or download a digital pass today.\n\n\n \n\n\n*Passes exclude special events. Cannot be combined with other offers.
URL:https://visitcmod.org/events/museum-month-2/2026-02-28/
LOCATION:Children’s Museum of Discovery\, 320 North Broadway\, Escondido\, CA\, 92025\, United States
ATTACH;FMTTYPE=image/png:https://visitcmod.org/wp-content/uploads/2026/01/Museum-Month-2026-Logo-No-background.png
END:VEVENT
BEGIN:VEVENT
DTSTART;TZID=America/Los_Angeles:20260228T100000
DTEND;TZID=America/Los_Angeles:20260228T103000
DTSTAMP:20260423T152951
CREATED:20251022T211100Z
LAST-MODIFIED:20260406T175630Z
UID:10015607-1772272800-1772274600@visitcmod.org
SUMMARY:Fossil Talk
DESCRIPTION:Join us in Base Camp and learn about different fossils!
URL:https://visitcmod.org/events/fossil-talk/2026-02-28/
LOCATION:Children’s Museum of Discovery\, 320 North Broadway\, Escondido\, CA\, 92025\, United States
CATEGORIES:Science
ATTACH;FMTTYPE=image/png:https://visitcmod.org/wp-content/uploads/2025/10/Fossil-Talk.png
END:VEVENT
BEGIN:VEVENT
DTSTART;TZID=America/Los_Angeles:20260228T110000
DTEND;TZID=America/Los_Angeles:20260228T113000
DTSTAMP:20260423T152951
CREATED:20251022T202247Z
LAST-MODIFIED:20260417T183233Z
UID:10015663-1772276400-1772278200@visitcmod.org
SUMMARY:Garden Workshop
DESCRIPTION:Enjoy a Garden Workshop with our Educators!
URL:https://visitcmod.org/events/garden-workshop-15/2026-02-28/
LOCATION:Children’s Museum of Discovery\, 320 North Broadway\, Escondido\, CA\, 92025\, United States
CATEGORIES:Art,STEM / STEAM
ATTACH;FMTTYPE=image/png:https://visitcmod.org/wp-content/uploads/2025/10/garden-workshop-general.png
END:VEVENT
BEGIN:VEVENT
DTSTART;TZID=America/Los_Angeles:20260228T120000
DTEND;TZID=America/Los_Angeles:20260228T130000
DTSTAMP:20260423T152951
CREATED:20260123T200833Z
LAST-MODIFIED:20260123T200833Z
UID:10017327-1772280000-1772283600@visitcmod.org
SUMMARY:Family Workshop
DESCRIPTION:Let’s learn about measurement! \nWe will be making an inchworm friend and using it to learn about length and height.
URL:https://visitcmod.org/events/family-workshop-84/2026-02-28/
LOCATION:Children’s Museum of Discovery\, 320 North Broadway\, Escondido\, CA\, 92025\, United States
CATEGORIES:Art,STEM / STEAM
ATTACH;FMTTYPE=image/jpeg:https://visitcmod.org/wp-content/uploads/2026/01/IMG_3383_1x1.jpg
END:VEVENT
BEGIN:VEVENT
DTSTART;TZID=America/Los_Angeles:20260228T140000
DTEND;TZID=America/Los_Angeles:20260228T143000
DTSTAMP:20260423T152951
CREATED:20251022T202338Z
LAST-MODIFIED:20260317T175903Z
UID:10015871-1772287200-1772289000@visitcmod.org
SUMMARY:Garden Workshop
DESCRIPTION:Enjoy a Garden Workshop with our Educators!
URL:https://visitcmod.org/events/garden-workshop-16/2026-02-28/
LOCATION:Children’s Museum of Discovery\, 320 North Broadway\, Escondido\, CA\, 92025\, United States
CATEGORIES:Art,STEM / STEAM
ATTACH;FMTTYPE=image/png:https://visitcmod.org/wp-content/uploads/2025/10/garden-workshop-general.png
END:VEVENT
BEGIN:VEVENT
DTSTART;TZID=America/Los_Angeles:20260228T150000
DTEND;TZID=America/Los_Angeles:20260228T160000
DTSTAMP:20260423T152951
CREATED:20260123T200903Z
LAST-MODIFIED:20260123T200903Z
UID:10017347-1772290800-1772294400@visitcmod.org
SUMMARY:Family Workshop
DESCRIPTION:Let’s learn about measurement! \nWe will be making an inchworm friend and using it to learn about length and height.
URL:https://visitcmod.org/events/family-workshop-85/2026-02-28/
LOCATION:Children’s Museum of Discovery\, 320 North Broadway\, Escondido\, CA\, 92025\, United States
CATEGORIES:Art,STEM / STEAM
ATTACH;FMTTYPE=image/jpeg:https://visitcmod.org/wp-content/uploads/2026/01/IMG_3383_1x1.jpg
END:VEVENT
END:VCALENDAR