BEGIN:VCALENDAR
VERSION:2.0
PRODID:-//Children&#039;s Museum of Discovery - ECPv6.10.1.1//NONSGML v1.0//EN
CALSCALE:GREGORIAN
METHOD:PUBLISH
X-WR-CALNAME:Children&#039;s Museum of Discovery
X-ORIGINAL-URL:https://visitcmod.org
X-WR-CALDESC:Events for Children&#039;s Museum of Discovery
REFRESH-INTERVAL;VALUE=DURATION:PT1H
X-Robots-Tag:noindex
X-PUBLISHED-TTL:PT1H
BEGIN:VTIMEZONE
TZID:America/Los_Angeles
BEGIN:DAYLIGHT
TZOFFSETFROM:-0800
TZOFFSETTO:-0700
TZNAME:PDT
DTSTART:20260308T100000
END:DAYLIGHT
BEGIN:STANDARD
TZOFFSETFROM:-0700
TZOFFSETTO:-0800
TZNAME:PST
DTSTART:20261101T090000
END:STANDARD
END:VTIMEZONE
BEGIN:VEVENT
DTSTART;TZID=America/Los_Angeles:20260307T100000
DTEND;TZID=America/Los_Angeles:20260307T103000
DTSTAMP:20260423T142024
CREATED:20251022T211100Z
LAST-MODIFIED:20260406T175630Z
UID:10015612-1772877600-1772879400@visitcmod.org
SUMMARY:Fossil Talk
DESCRIPTION:Join us in Base Camp and learn about different fossils!
URL:https://visitcmod.org/events/fossil-talk/2026-03-07/
LOCATION:Children’s Museum of Discovery\, 320 North Broadway\, Escondido\, CA\, 92025\, United States
CATEGORIES:Science
ATTACH;FMTTYPE=image/png:https://visitcmod.org/wp-content/uploads/2025/10/Fossil-Talk.png
END:VEVENT
BEGIN:VEVENT
DTSTART;TZID=America/Los_Angeles:20260307T110000
DTEND;TZID=America/Los_Angeles:20260307T113000
DTSTAMP:20260423T142024
CREATED:20251022T202247Z
LAST-MODIFIED:20260417T183233Z
UID:10015667-1772881200-1772883000@visitcmod.org
SUMMARY:Garden Workshop
DESCRIPTION:Enjoy a Garden Workshop with our Educators!
URL:https://visitcmod.org/events/garden-workshop-15/2026-03-07/
LOCATION:Children’s Museum of Discovery\, 320 North Broadway\, Escondido\, CA\, 92025\, United States
CATEGORIES:Art,STEM / STEAM
ATTACH;FMTTYPE=image/png:https://visitcmod.org/wp-content/uploads/2025/10/garden-workshop-general.png
END:VEVENT
BEGIN:VEVENT
DTSTART;TZID=America/Los_Angeles:20260307T120000
DTEND;TZID=America/Los_Angeles:20260307T130000
DTSTAMP:20260423T142024
CREATED:20260123T201505Z
LAST-MODIFIED:20260123T201505Z
UID:10017378-1772884800-1772888400@visitcmod.org
SUMMARY:Family Workshop
DESCRIPTION:Let’s learn about geometry! \nKiddos will use geometric-shaped building blocks and use them to create a castle scene inspired by artist Paul Klee’s “Castle in the Sun”.
URL:https://visitcmod.org/events/family-workshop-86/2026-03-07/
LOCATION:Children’s Museum of Discovery\, 320 North Broadway\, Escondido\, CA\, 92025\, United States
CATEGORIES:Art,STEM / STEAM
ATTACH;FMTTYPE=image/jpeg:https://visitcmod.org/wp-content/uploads/2026/01/IMG_3380_1x1.jpg
END:VEVENT
BEGIN:VEVENT
DTSTART;TZID=America/Los_Angeles:20260307T140000
DTEND;TZID=America/Los_Angeles:20260307T143000
DTSTAMP:20260423T142024
CREATED:20251022T202338Z
LAST-MODIFIED:20260317T175903Z
UID:10015875-1772892000-1772893800@visitcmod.org
SUMMARY:Garden Workshop
DESCRIPTION:Enjoy a Garden Workshop with our Educators!
URL:https://visitcmod.org/events/garden-workshop-16/2026-03-07/
LOCATION:Children’s Museum of Discovery\, 320 North Broadway\, Escondido\, CA\, 92025\, United States
CATEGORIES:Art,STEM / STEAM
ATTACH;FMTTYPE=image/png:https://visitcmod.org/wp-content/uploads/2025/10/garden-workshop-general.png
END:VEVENT
BEGIN:VEVENT
DTSTART;TZID=America/Los_Angeles:20260307T150000
DTEND;TZID=America/Los_Angeles:20260307T160000
DTSTAMP:20260423T142024
CREATED:20260123T201640Z
LAST-MODIFIED:20260123T201640Z
UID:10017398-1772895600-1772899200@visitcmod.org
SUMMARY:Family Workshop
DESCRIPTION:Let’s learn about geometry! \nKiddos will use geometric-shaped building blocks and use them to create a castle scene inspired by artist Paul Klee’s “Castle in the Sun”.
URL:https://visitcmod.org/events/family-workshop-87/2026-03-07/
LOCATION:Children’s Museum of Discovery\, 320 North Broadway\, Escondido\, CA\, 92025\, United States
CATEGORIES:Art,STEM / STEAM
ATTACH;FMTTYPE=image/jpeg:https://visitcmod.org/wp-content/uploads/2026/01/IMG_3380_1x1.jpg
END:VEVENT
END:VCALENDAR