BEGIN:VCALENDAR
VERSION:2.0
PRODID:-//Children&#039;s Museum of Discovery - ECPv6.10.1.1//NONSGML v1.0//EN
CALSCALE:GREGORIAN
METHOD:PUBLISH
X-WR-CALNAME:Children&#039;s Museum of Discovery
X-ORIGINAL-URL:https://visitcmod.org
X-WR-CALDESC:Events for Children&#039;s Museum of Discovery
REFRESH-INTERVAL;VALUE=DURATION:PT1H
X-Robots-Tag:noindex
X-PUBLISHED-TTL:PT1H
BEGIN:VTIMEZONE
TZID:America/Los_Angeles
BEGIN:DAYLIGHT
TZOFFSETFROM:-0800
TZOFFSETTO:-0700
TZNAME:PDT
DTSTART:20260308T100000
END:DAYLIGHT
BEGIN:STANDARD
TZOFFSETFROM:-0700
TZOFFSETTO:-0800
TZNAME:PST
DTSTART:20261101T090000
END:STANDARD
END:VTIMEZONE
BEGIN:VEVENT
DTSTART;TZID=America/Los_Angeles:20260325T100000
DTEND;TZID=America/Los_Angeles:20260325T103000
DTSTAMP:20260423T100558
CREATED:20251022T211100Z
LAST-MODIFIED:20260406T175630Z
UID:10015625-1774432800-1774434600@visitcmod.org
SUMMARY:Fossil Talk
DESCRIPTION:Join us in Base Camp and learn about different fossils!
URL:https://visitcmod.org/events/fossil-talk/2026-03-25/
LOCATION:Children’s Museum of Discovery\, 320 North Broadway\, Escondido\, CA\, 92025\, United States
CATEGORIES:Science
ATTACH;FMTTYPE=image/png:https://visitcmod.org/wp-content/uploads/2025/10/Fossil-Talk.png
END:VEVENT
BEGIN:VEVENT
DTSTART;TZID=America/Los_Angeles:20260325T100000
DTEND;TZID=America/Los_Angeles:20260325T140000
DTSTAMP:20260423T100558
CREATED:20260323T154722Z
LAST-MODIFIED:20260323T154722Z
UID:10017719-1774432800-1774447200@visitcmod.org
SUMMARY:Onsite Field Trip
DESCRIPTION:We have a school group joining us onsite! Expect up to 50 additional guests in attendance.
URL:https://visitcmod.org/events/onsite-field-trip-42/
LOCATION:Children’s Museum of Discovery\, 320 North Broadway\, Escondido\, CA\, 92025\, United States
CATEGORIES:Art,Movement / Physical Activity,Music
ATTACH;FMTTYPE=image/png:https://visitcmod.org/wp-content/uploads/2024/11/field-trips.png
END:VEVENT
BEGIN:VEVENT
DTSTART;TZID=America/Los_Angeles:20260325T110000
DTEND;TZID=America/Los_Angeles:20260325T113000
DTSTAMP:20260423T100558
CREATED:20251022T202247Z
LAST-MODIFIED:20260417T183233Z
UID:10015677-1774436400-1774438200@visitcmod.org
SUMMARY:Garden Workshop
DESCRIPTION:Enjoy a Garden Workshop with our Educators!
URL:https://visitcmod.org/events/garden-workshop-15/2026-03-25/
LOCATION:Children’s Museum of Discovery\, 320 North Broadway\, Escondido\, CA\, 92025\, United States
CATEGORIES:Art,STEM / STEAM
ATTACH;FMTTYPE=image/png:https://visitcmod.org/wp-content/uploads/2025/10/garden-workshop-general.png
END:VEVENT
BEGIN:VEVENT
DTSTART;TZID=America/Los_Angeles:20260325T120000
DTEND;TZID=America/Los_Angeles:20260325T130000
DTSTAMP:20260423T100558
CREATED:20260303T170916Z
LAST-MODIFIED:20260303T171645Z
UID:10017523-1774440000-1774443600@visitcmod.org
SUMMARY:Family Workshop
DESCRIPTION:Let’s learn about co-planting! \nKiddos will learn about the legend of “The Three Sisters” and create their own collage.
URL:https://visitcmod.org/events/family-workshop-88/2026-03-25/
LOCATION:Children’s Museum of Discovery\, 320 North Broadway\, Escondido\, CA\, 92025\, United States
CATEGORIES:Art,STEM / STEAM
ATTACH;FMTTYPE=image/png:https://visitcmod.org/wp-content/uploads/2026/03/Three-Sisters-DP.png
END:VEVENT
BEGIN:VEVENT
DTSTART;TZID=America/Los_Angeles:20260325T140000
DTEND;TZID=America/Los_Angeles:20260325T143000
DTSTAMP:20260423T100558
CREATED:20251022T202338Z
LAST-MODIFIED:20260317T175903Z
UID:10015885-1774447200-1774449000@visitcmod.org
SUMMARY:Garden Workshop
DESCRIPTION:Enjoy a Garden Workshop with our Educators!
URL:https://visitcmod.org/events/garden-workshop-16/2026-03-25/
LOCATION:Children’s Museum of Discovery\, 320 North Broadway\, Escondido\, CA\, 92025\, United States
CATEGORIES:Art,STEM / STEAM
ATTACH;FMTTYPE=image/png:https://visitcmod.org/wp-content/uploads/2025/10/garden-workshop-general.png
END:VEVENT
BEGIN:VEVENT
DTSTART;TZID=America/Los_Angeles:20260325T150000
DTEND;TZID=America/Los_Angeles:20260325T160000
DTSTAMP:20260423T100558
CREATED:20260303T171030Z
LAST-MODIFIED:20260303T171701Z
UID:10017543-1774450800-1774454400@visitcmod.org
SUMMARY:Family Workshop
DESCRIPTION:Let’s learn about co-planting! \nKiddos will learn about the legend of “The Three Sisters” and create their own collage.
URL:https://visitcmod.org/events/family-workshop-89/2026-03-25/
LOCATION:Children’s Museum of Discovery\, 320 North Broadway\, Escondido\, CA\, 92025\, United States
CATEGORIES:Art,STEM / STEAM
ATTACH;FMTTYPE=image/png:https://visitcmod.org/wp-content/uploads/2026/03/Three-Sisters-DP.png
END:VEVENT
END:VCALENDAR