BEGIN:VCALENDAR
VERSION:2.0
PRODID:-//Children&#039;s Museum of Discovery - ECPv6.10.1.1//NONSGML v1.0//EN
CALSCALE:GREGORIAN
METHOD:PUBLISH
X-WR-CALNAME:Children&#039;s Museum of Discovery
X-ORIGINAL-URL:https://visitcmod.org
X-WR-CALDESC:Events for Children&#039;s Museum of Discovery
REFRESH-INTERVAL;VALUE=DURATION:PT1H
X-Robots-Tag:noindex
X-PUBLISHED-TTL:PT1H
BEGIN:VTIMEZONE
TZID:America/Los_Angeles
BEGIN:DAYLIGHT
TZOFFSETFROM:-0800
TZOFFSETTO:-0700
TZNAME:PDT
DTSTART:20260308T100000
END:DAYLIGHT
BEGIN:STANDARD
TZOFFSETFROM:-0700
TZOFFSETTO:-0800
TZNAME:PST
DTSTART:20261101T090000
END:STANDARD
END:VTIMEZONE
BEGIN:VEVENT
DTSTART;TZID=America/Los_Angeles:20260423T100000
DTEND;TZID=America/Los_Angeles:20260423T103000
DTSTAMP:20260423T023830
CREATED:20260406T175508Z
LAST-MODIFIED:20260406T203107Z
UID:10017962-1776938400-1776940200@visitcmod.org
SUMMARY:Bilingual Tortoise Talk
DESCRIPTION:Enjoy Tortoise Talk in Spanish! \nMeet Sebastian\, the 57 year old North American Desert Tortoise! Guests can get an up close look at Sebastian the tortoise and learn about his different adaptations.
URL:https://visitcmod.org/events/bilingual-tortoise-talk-3/2026-04-23/
LOCATION:Children’s Museum of Discovery\, 320 North Broadway\, Escondido\, CA\, 92025\, United States
CATEGORIES:Science
ATTACH;FMTTYPE=image/jpeg:https://visitcmod.org/wp-content/uploads/2024/07/Sebastian-The-Turtle.jpg
END:VEVENT
BEGIN:VEVENT
DTSTART;TZID=America/Los_Angeles:20260423T100000
DTEND;TZID=America/Los_Angeles:20260423T140000
DTSTAMP:20260423T023830
CREATED:20260422T151619Z
LAST-MODIFIED:20260422T151619Z
UID:10018194-1776938400-1776952800@visitcmod.org
SUMMARY:Onsite Field Trip
DESCRIPTION:We have a school group joining us onsite! Expect up to 66 additional guests in attendance.
URL:https://visitcmod.org/events/onsite-field-trip-48/
LOCATION:Children’s Museum of Discovery\, 320 North Broadway\, Escondido\, CA\, 92025\, United States
CATEGORIES:Art,Movement / Physical Activity,Music
ATTACH;FMTTYPE=image/png:https://visitcmod.org/wp-content/uploads/2024/11/field-trips.png
END:VEVENT
BEGIN:VEVENT
DTSTART;TZID=America/Los_Angeles:20260423T110000
DTEND;TZID=America/Los_Angeles:20260423T113000
DTSTAMP:20260423T023830
CREATED:20260123T194618Z
LAST-MODIFIED:20260416T190435Z
UID:10017661-1776942000-1776943800@visitcmod.org
SUMMARY:Bilingual Garden Workshop
DESCRIPTION:Enjoy a Garden Workshop with our Educators in Spanish!
URL:https://visitcmod.org/events/bilingual-garden-workshop-20/2026-04-23/
LOCATION:Children’s Museum of Discovery\, 320 North Broadway\, Escondido\, CA\, 92025\, United States
CATEGORIES:Art,STEM / STEAM
ATTACH;FMTTYPE=image/png:https://visitcmod.org/wp-content/uploads/2025/10/garden-workshop-general.png
END:VEVENT
BEGIN:VEVENT
DTSTART;TZID=America/Los_Angeles:20260423T120000
DTEND;TZID=America/Los_Angeles:20260423T130000
DTSTAMP:20260423T023830
CREATED:20260317T174853Z
LAST-MODIFIED:20260317T174934Z
UID:10017713-1776945600-1776949200@visitcmod.org
SUMMARY:Bilingual Family Workshop
DESCRIPTION:Enjoy a Family Workshop with our Educators in Spanish! \nLet’s learn how birds live at night and then “tinker” a nocturnal bird stuffie.
URL:https://visitcmod.org/events/bilingual-family-workshop-38/2026-04-23/
LOCATION:Children’s Museum of Discovery\, 320 North Broadway\, Escondido\, CA\, 92025\, United States
CATEGORIES:Art,STEM / STEAM
ATTACH;FMTTYPE=image/jpeg:https://visitcmod.org/wp-content/uploads/2026/03/IMG_3526_Square.jpg
END:VEVENT
BEGIN:VEVENT
DTSTART;TZID=America/Los_Angeles:20260423T140000
DTEND;TZID=America/Los_Angeles:20260423T143000
DTSTAMP:20260423T023830
CREATED:20260326T164558Z
LAST-MODIFIED:20260416T190452Z
UID:10017666-1776952800-1776954600@visitcmod.org
SUMMARY:Bilingual Garden Workshop
DESCRIPTION:Enjoy a Garden Workshop with our Educators in Spanish!
URL:https://visitcmod.org/events/bilingual-garden-workshop-21-2/2026-04-23/
LOCATION:Children’s Museum of Discovery\, 320 North Broadway\, Escondido\, CA\, 92025\, United States
CATEGORIES:Art,STEM / STEAM
ATTACH;FMTTYPE=image/png:https://visitcmod.org/wp-content/uploads/2025/10/garden-workshop-general.png
END:VEVENT
BEGIN:VEVENT
DTSTART;TZID=America/Los_Angeles:20260423T150000
DTEND;TZID=America/Los_Angeles:20260423T160000
DTSTAMP:20260423T023830
CREATED:20260317T174947Z
LAST-MODIFIED:20260317T174947Z
UID:10017717-1776956400-1776960000@visitcmod.org
SUMMARY:Bilingual Family Workshop
DESCRIPTION:Enjoy a Family Workshop with our Educators in Spanish! \nLet’s learn how birds live at night and then “tinker” a nocturnal bird stuffie.
URL:https://visitcmod.org/events/bilingual-family-workshop-39/2026-04-23/
LOCATION:Children’s Museum of Discovery\, 320 North Broadway\, Escondido\, CA\, 92025\, United States
CATEGORIES:Art,STEM / STEAM
ATTACH;FMTTYPE=image/jpeg:https://visitcmod.org/wp-content/uploads/2026/03/IMG_3526_Square.jpg
END:VEVENT
END:VCALENDAR