BEGIN:VCALENDAR
VERSION:2.0
PRODID:-//Children&#039;s Museum of Discovery - ECPv6.10.1.1//NONSGML v1.0//EN
CALSCALE:GREGORIAN
METHOD:PUBLISH
X-ORIGINAL-URL:https://visitcmod.org
X-WR-CALDESC:Events for Children&#039;s Museum of Discovery
REFRESH-INTERVAL;VALUE=DURATION:PT1H
X-Robots-Tag:noindex
X-PUBLISHED-TTL:PT1H
BEGIN:VTIMEZONE
TZID:America/Los_Angeles
BEGIN:DAYLIGHT
TZOFFSETFROM:-0800
TZOFFSETTO:-0700
TZNAME:PDT
DTSTART:20260308T100000
END:DAYLIGHT
BEGIN:STANDARD
TZOFFSETFROM:-0700
TZOFFSETTO:-0800
TZNAME:PST
DTSTART:20261101T090000
END:STANDARD
END:VTIMEZONE
BEGIN:VEVENT
DTSTART;VALUE=DATE:20260505
DTEND;VALUE=DATE:20260506
DTSTAMP:20260423T072348
CREATED:20260413T191600Z
LAST-MODIFIED:20260413T191600Z
UID:10018018-1777939200-1778025599@visitcmod.org
SUMMARY:Big Exchange
DESCRIPTION:Did you know that our members get access to San Diego Museum Council’s Big Exchange? From May 1 to 18\, the Big Exchange gives Children’s Museum of Discovery members reciprocal admission to more than 50 museums\, historic sites\, gardens\, and other organizations throughout San Diego County. Showing your current membership card is all it takes to get free entry to any of the participating organizations. \n*Note: This excludes special events and cannot be combined with any other offers. \nView the list of participating museums here!
URL:https://visitcmod.org/events/big-exchange-3/2026-05-05/
LOCATION:Children’s Museum of Discovery\, 320 North Broadway\, Escondido\, CA\, 92025\, United States
ATTACH;FMTTYPE=image/png:https://visitcmod.org/wp-content/uploads/2026/04/big-exchange-cal-image-26.png
END:VEVENT
BEGIN:VEVENT
DTSTART;TZID=America/Los_Angeles:20260505T083000
DTEND;TZID=America/Los_Angeles:20260505T093000
DTSTAMP:20260423T072348
CREATED:20251216T183744Z
LAST-MODIFIED:20251216T183744Z
UID:10015451-1777969800-1777973400@visitcmod.org
SUMMARY:Member's Only Hours
DESCRIPTION:Join us every Tuesday from 8:30 a.m. – 9:30 a.m. for our Member’s Only Hours.
URL:https://visitcmod.org/events/members-only-hours-2/2026-05-05/
LOCATION:Children’s Museum of Discovery\, 320 North Broadway\, Escondido\, CA\, 92025\, United States
CATEGORIES:Art,STEM / STEAM
ATTACH;FMTTYPE=image/jpeg:https://visitcmod.org/wp-content/uploads/2024/07/Light-Table.jpg
END:VEVENT
BEGIN:VEVENT
DTSTART;TZID=America/Los_Angeles:20260505T100000
DTEND;TZID=America/Los_Angeles:20260505T103000
DTSTAMP:20260423T072348
CREATED:20260406T175419Z
LAST-MODIFIED:20260417T183201Z
UID:10017814-1777975200-1777977000@visitcmod.org
SUMMARY:Tortoise Talk
DESCRIPTION:Meet Sebastian\, the 57 year old North American Desert Tortoise! Guests can get an up close look at Sebastian the tortoise and learn about his different adaptations.
URL:https://visitcmod.org/events/tortoise-talk-4/2026-05-05/
LOCATION:Children’s Museum of Discovery\, 320 North Broadway\, Escondido\, CA\, 92025\, United States
CATEGORIES:Science
ATTACH;FMTTYPE=image/jpeg:https://visitcmod.org/wp-content/uploads/2024/07/Sebastian-The-Turtle.jpg
END:VEVENT
BEGIN:VEVENT
DTSTART;TZID=America/Los_Angeles:20260505T110000
DTEND;TZID=America/Los_Angeles:20260505T113000
DTSTAMP:20260423T072348
CREATED:20251022T202247Z
LAST-MODIFIED:20260417T183233Z
UID:10016551-1777978800-1777980600@visitcmod.org
SUMMARY:Garden Workshop
DESCRIPTION:Enjoy a Garden Workshop with our Educators!
URL:https://visitcmod.org/events/garden-workshop-15/2026-05-05/
LOCATION:Children’s Museum of Discovery\, 320 North Broadway\, Escondido\, CA\, 92025\, United States
CATEGORIES:Art,STEM / STEAM
ATTACH;FMTTYPE=image/png:https://visitcmod.org/wp-content/uploads/2025/10/garden-workshop-general.png
END:VEVENT
BEGIN:VEVENT
DTSTART;TZID=America/Los_Angeles:20260505T120000
DTEND;TZID=America/Los_Angeles:20260505T130000
DTSTAMP:20260423T072348
CREATED:20260416T185040Z
LAST-MODIFIED:20260417T183308Z
UID:10018045-1777982400-1777986000@visitcmod.org
SUMMARY:Family Workshop
DESCRIPTION:Baby Bird Craft\n \nExplore traits that families share\, including features like how we look\, smile\, laugh\, and what we like to do
URL:https://visitcmod.org/events/family-workshop-94/2026-05-05/
LOCATION:Children’s Museum of Discovery\, 320 North Broadway\, Escondido\, CA\, 92025\, United States
CATEGORIES:Art,STEM / STEAM
ATTACH;FMTTYPE=image/jpeg:https://visitcmod.org/wp-content/uploads/2026/04/IMG_3674_square.jpg
END:VEVENT
BEGIN:VEVENT
DTSTART;TZID=America/Los_Angeles:20260505T140000
DTEND;TZID=America/Los_Angeles:20260505T143000
DTSTAMP:20260423T072348
CREATED:20251022T202338Z
LAST-MODIFIED:20260317T175903Z
UID:10016612-1777989600-1777991400@visitcmod.org
SUMMARY:Garden Workshop
DESCRIPTION:Enjoy a Garden Workshop with our Educators!
URL:https://visitcmod.org/events/garden-workshop-16/2026-05-05/
LOCATION:Children’s Museum of Discovery\, 320 North Broadway\, Escondido\, CA\, 92025\, United States
CATEGORIES:Art,STEM / STEAM
ATTACH;FMTTYPE=image/png:https://visitcmod.org/wp-content/uploads/2025/10/garden-workshop-general.png
END:VEVENT
BEGIN:VEVENT
DTSTART;TZID=America/Los_Angeles:20260505T150000
DTEND;TZID=America/Los_Angeles:20260505T160000
DTSTAMP:20260423T072348
CREATED:20260416T185158Z
LAST-MODIFIED:20260416T185158Z
UID:10018063-1777993200-1777996800@visitcmod.org
SUMMARY:Family Workshop
DESCRIPTION:Baby Bird Craft\n \nExplore traits that families share\, including features like how we look\, smile\, laugh\, and what we like to do
URL:https://visitcmod.org/events/family-workshop-95/2026-05-05/
LOCATION:Children’s Museum of Discovery\, 320 North Broadway\, Escondido\, CA\, 92025\, United States
CATEGORIES:Art,STEM / STEAM
ATTACH;FMTTYPE=image/jpeg:https://visitcmod.org/wp-content/uploads/2026/04/IMG_3674_square.jpg
END:VEVENT
END:VCALENDAR