BEGIN:VCALENDAR
VERSION:2.0
PRODID:-//Children&#039;s Museum of Discovery - ECPv6.10.1.1//NONSGML v1.0//EN
CALSCALE:GREGORIAN
METHOD:PUBLISH
X-ORIGINAL-URL:https://visitcmod.org
X-WR-CALDESC:Events for Children&#039;s Museum of Discovery
REFRESH-INTERVAL;VALUE=DURATION:PT1H
X-Robots-Tag:noindex
X-PUBLISHED-TTL:PT1H
BEGIN:VTIMEZONE
TZID:America/Los_Angeles
BEGIN:DAYLIGHT
TZOFFSETFROM:-0800
TZOFFSETTO:-0700
TZNAME:PDT
DTSTART:20260308T100000
END:DAYLIGHT
BEGIN:STANDARD
TZOFFSETFROM:-0700
TZOFFSETTO:-0800
TZNAME:PST
DTSTART:20261101T090000
END:STANDARD
END:VTIMEZONE
BEGIN:VEVENT
DTSTART;VALUE=DATE:20260506
DTEND;VALUE=DATE:20260507
DTSTAMP:20260423T072326
CREATED:20260413T191600Z
LAST-MODIFIED:20260413T191600Z
UID:10018019-1778025600-1778111999@visitcmod.org
SUMMARY:Big Exchange
DESCRIPTION:Did you know that our members get access to San Diego Museum Council’s Big Exchange? From May 1 to 18\, the Big Exchange gives Children’s Museum of Discovery members reciprocal admission to more than 50 museums\, historic sites\, gardens\, and other organizations throughout San Diego County. Showing your current membership card is all it takes to get free entry to any of the participating organizations. \n*Note: This excludes special events and cannot be combined with any other offers. \nView the list of participating museums here!
URL:https://visitcmod.org/events/big-exchange-3/2026-05-06/
LOCATION:Children’s Museum of Discovery\, 320 North Broadway\, Escondido\, CA\, 92025\, United States
ATTACH;FMTTYPE=image/png:https://visitcmod.org/wp-content/uploads/2026/04/big-exchange-cal-image-26.png
END:VEVENT
BEGIN:VEVENT
DTSTART;TZID=America/Los_Angeles:20260506T100000
DTEND;TZID=America/Los_Angeles:20260506T120000
DTSTAMP:20260423T072326
CREATED:20260407T171011Z
LAST-MODIFIED:20260407T171011Z
UID:10017990-1778061600-1778068800@visitcmod.org
SUMMARY:International Bubble Blowing Day Pop-Up
DESCRIPTION:Happy International Bubble Blowing Day! Enjoy special bubble-themed crafts\, including a bubble wand and bubble print.
URL:https://visitcmod.org/events/international-bubble-blowing-day/
LOCATION:Children’s Museum of Discovery\, 320 North Broadway\, Escondido\, CA\, 92025\, United States
CATEGORIES:Art,Science
ATTACH;FMTTYPE=image/png:https://visitcmod.org/wp-content/uploads/2024/08/popup.png
END:VEVENT
BEGIN:VEVENT
DTSTART;TZID=America/Los_Angeles:20260506T140000
DTEND;TZID=America/Los_Angeles:20260506T143000
DTSTAMP:20260423T072326
CREATED:20251022T202338Z
LAST-MODIFIED:20260317T175903Z
UID:10015909-1778076000-1778077800@visitcmod.org
SUMMARY:Garden Workshop
DESCRIPTION:Enjoy a Garden Workshop with our Educators!
URL:https://visitcmod.org/events/garden-workshop-16/2026-05-06/
LOCATION:Children’s Museum of Discovery\, 320 North Broadway\, Escondido\, CA\, 92025\, United States
CATEGORIES:Art,STEM / STEAM
ATTACH;FMTTYPE=image/png:https://visitcmod.org/wp-content/uploads/2025/10/garden-workshop-general.png
END:VEVENT
BEGIN:VEVENT
DTSTART;TZID=America/Los_Angeles:20260506T150000
DTEND;TZID=America/Los_Angeles:20260506T160000
DTSTAMP:20260423T072326
CREATED:20260416T185158Z
LAST-MODIFIED:20260416T185158Z
UID:10018064-1778079600-1778083200@visitcmod.org
SUMMARY:Family Workshop
DESCRIPTION:Baby Bird Craft\n \nExplore traits that families share\, including features like how we look\, smile\, laugh\, and what we like to do
URL:https://visitcmod.org/events/family-workshop-95/2026-05-06/
LOCATION:Children’s Museum of Discovery\, 320 North Broadway\, Escondido\, CA\, 92025\, United States
CATEGORIES:Art,STEM / STEAM
ATTACH;FMTTYPE=image/jpeg:https://visitcmod.org/wp-content/uploads/2026/04/IMG_3674_square.jpg
END:VEVENT
END:VCALENDAR