BEGIN:VCALENDAR
VERSION:2.0
PRODID:-//Children&#039;s Museum of Discovery - ECPv6.10.1.1//NONSGML v1.0//EN
CALSCALE:GREGORIAN
METHOD:PUBLISH
X-WR-CALNAME:Children&#039;s Museum of Discovery
X-ORIGINAL-URL:https://visitcmod.org
X-WR-CALDESC:Events for Children&#039;s Museum of Discovery
REFRESH-INTERVAL;VALUE=DURATION:PT1H
X-Robots-Tag:noindex
X-PUBLISHED-TTL:PT1H
BEGIN:VTIMEZONE
TZID:America/Los_Angeles
BEGIN:DAYLIGHT
TZOFFSETFROM:-0800
TZOFFSETTO:-0700
TZNAME:PDT
DTSTART:20260308T100000
END:DAYLIGHT
BEGIN:STANDARD
TZOFFSETFROM:-0700
TZOFFSETTO:-0800
TZNAME:PST
DTSTART:20261101T090000
END:STANDARD
END:VTIMEZONE
BEGIN:VEVENT
DTSTART;VALUE=DATE:20260518
DTEND;VALUE=DATE:20260519
DTSTAMP:20260423T100532
CREATED:20260413T191600Z
LAST-MODIFIED:20260413T191600Z
UID:10018031-1779062400-1779148799@visitcmod.org
SUMMARY:Big Exchange
DESCRIPTION:Did you know that our members get access to San Diego Museum Council’s Big Exchange? From May 1 to 18\, the Big Exchange gives Children’s Museum of Discovery members reciprocal admission to more than 50 museums\, historic sites\, gardens\, and other organizations throughout San Diego County. Showing your current membership card is all it takes to get free entry to any of the participating organizations. \n*Note: This excludes special events and cannot be combined with any other offers. \nView the list of participating museums here!
URL:https://visitcmod.org/events/big-exchange-3/2026-05-18/
LOCATION:Children’s Museum of Discovery\, 320 North Broadway\, Escondido\, CA\, 92025\, United States
ATTACH;FMTTYPE=image/png:https://visitcmod.org/wp-content/uploads/2026/04/big-exchange-cal-image-26.png
END:VEVENT
BEGIN:VEVENT
DTSTART;TZID=America/Los_Angeles:20260518T093000
DTEND;TZID=America/Los_Angeles:20260518T163000
DTSTAMP:20260423T100532
CREATED:20240713T212826Z
LAST-MODIFIED:20250117T185259Z
UID:10010957-1779096600-1779121800@visitcmod.org
SUMMARY:Museum Closed
DESCRIPTION:The Museum is closed.
URL:https://visitcmod.org/events/museum-closed/2026-05-18/
LOCATION:Children’s Museum of Discovery\, 320 North Broadway\, Escondido\, CA\, 92025\, United States
CATEGORIES:Art,Culture,Dinosaurs / Paleontology,Language Arts / Storytime,Messy Play,Movement / Physical Activity,Music,Science,STEM / STEAM,Theater / Performance
ATTACH;FMTTYPE=image/jpeg:https://visitcmod.org/wp-content/uploads/2024/07/Museum-Closed-scaled.jpg
END:VEVENT
END:VCALENDAR