BEGIN:VCALENDAR
VERSION:2.0
PRODID:-//Children&#039;s Museum of Discovery - ECPv6.10.1.1//NONSGML v1.0//EN
CALSCALE:GREGORIAN
METHOD:PUBLISH
X-WR-CALNAME:Children&#039;s Museum of Discovery
X-ORIGINAL-URL:https://visitcmod.org
X-WR-CALDESC:Events for Children&#039;s Museum of Discovery
REFRESH-INTERVAL;VALUE=DURATION:PT1H
X-Robots-Tag:noindex
X-PUBLISHED-TTL:PT1H
BEGIN:VTIMEZONE
TZID:America/Los_Angeles
BEGIN:DAYLIGHT
TZOFFSETFROM:-0800
TZOFFSETTO:-0700
TZNAME:PDT
DTSTART:20260308T100000
END:DAYLIGHT
BEGIN:STANDARD
TZOFFSETFROM:-0700
TZOFFSETTO:-0800
TZNAME:PST
DTSTART:20261101T090000
END:STANDARD
END:VTIMEZONE
BEGIN:VEVENT
DTSTART;TZID=America/Los_Angeles:20260520T100000
DTEND;TZID=America/Los_Angeles:20260520T103000
DTSTAMP:20260423T100556
CREATED:20260406T175419Z
LAST-MODIFIED:20260417T183201Z
UID:10017825-1779271200-1779273000@visitcmod.org
SUMMARY:Tortoise Talk
DESCRIPTION:Meet Sebastian\, the 57 year old North American Desert Tortoise! Guests can get an up close look at Sebastian the tortoise and learn about his different adaptations.
URL:https://visitcmod.org/events/tortoise-talk-4/2026-05-20/
LOCATION:Children’s Museum of Discovery\, 320 North Broadway\, Escondido\, CA\, 92025\, United States
CATEGORIES:Science
ATTACH;FMTTYPE=image/jpeg:https://visitcmod.org/wp-content/uploads/2024/07/Sebastian-The-Turtle.jpg
END:VEVENT
BEGIN:VEVENT
DTSTART;TZID=America/Los_Angeles:20260520T110000
DTEND;TZID=America/Los_Angeles:20260520T113000
DTSTAMP:20260423T100556
CREATED:20251022T202247Z
LAST-MODIFIED:20260417T183233Z
UID:10015709-1779274800-1779276600@visitcmod.org
SUMMARY:Garden Workshop
DESCRIPTION:Enjoy a Garden Workshop with our Educators!
URL:https://visitcmod.org/events/garden-workshop-15/2026-05-20/
LOCATION:Children’s Museum of Discovery\, 320 North Broadway\, Escondido\, CA\, 92025\, United States
CATEGORIES:Art,STEM / STEAM
ATTACH;FMTTYPE=image/png:https://visitcmod.org/wp-content/uploads/2025/10/garden-workshop-general.png
END:VEVENT
BEGIN:VEVENT
DTSTART;TZID=America/Los_Angeles:20260520T120000
DTEND;TZID=America/Los_Angeles:20260520T130000
DTSTAMP:20260423T100556
CREATED:20260416T190015Z
LAST-MODIFIED:20260416T190015Z
UID:10018091-1779278400-1779282000@visitcmod.org
SUMMARY:Family Workshop
DESCRIPTION:Color and paint the amazing fish who can light their own way using bioluminescence.
URL:https://visitcmod.org/events/family-workshop-96/2026-05-20/
LOCATION:Children’s Museum of Discovery\, 320 North Broadway\, Escondido\, CA\, 92025\, United States
CATEGORIES:Art,STEM / STEAM
ATTACH;FMTTYPE=image/jpeg:https://visitcmod.org/wp-content/uploads/2026/04/IMG_3679_square.jpg
END:VEVENT
BEGIN:VEVENT
DTSTART;TZID=America/Los_Angeles:20260520T140000
DTEND;TZID=America/Los_Angeles:20260520T143000
DTSTAMP:20260423T100556
CREATED:20251022T202338Z
LAST-MODIFIED:20260317T175903Z
UID:10015917-1779285600-1779287400@visitcmod.org
SUMMARY:Garden Workshop
DESCRIPTION:Enjoy a Garden Workshop with our Educators!
URL:https://visitcmod.org/events/garden-workshop-16/2026-05-20/
LOCATION:Children’s Museum of Discovery\, 320 North Broadway\, Escondido\, CA\, 92025\, United States
CATEGORIES:Art,STEM / STEAM
ATTACH;FMTTYPE=image/png:https://visitcmod.org/wp-content/uploads/2025/10/garden-workshop-general.png
END:VEVENT
BEGIN:VEVENT
DTSTART;TZID=America/Los_Angeles:20260520T150000
DTEND;TZID=America/Los_Angeles:20260520T160000
DTSTAMP:20260423T100556
CREATED:20260416T190057Z
LAST-MODIFIED:20260416T190057Z
UID:10018111-1779289200-1779292800@visitcmod.org
SUMMARY:Family Workshop
DESCRIPTION:Color and paint the amazing fish who can light their own way using bioluminescence.
URL:https://visitcmod.org/events/family-workshop-97/2026-05-20/
LOCATION:Children’s Museum of Discovery\, 320 North Broadway\, Escondido\, CA\, 92025\, United States
CATEGORIES:Art,STEM / STEAM
ATTACH;FMTTYPE=image/jpeg:https://visitcmod.org/wp-content/uploads/2026/04/IMG_3679_square.jpg
END:VEVENT
END:VCALENDAR