BEGIN:VCALENDAR
VERSION:2.0
PRODID:-//Children&#039;s Museum of Discovery - ECPv6.10.1.1//NONSGML v1.0//EN
CALSCALE:GREGORIAN
METHOD:PUBLISH
X-WR-CALNAME:Children&#039;s Museum of Discovery
X-ORIGINAL-URL:https://visitcmod.org
X-WR-CALDESC:Events for Children&#039;s Museum of Discovery
REFRESH-INTERVAL;VALUE=DURATION:PT1H
X-Robots-Tag:noindex
X-PUBLISHED-TTL:PT1H
BEGIN:VTIMEZONE
TZID:America/Los_Angeles
BEGIN:DAYLIGHT
TZOFFSETFROM:-0800
TZOFFSETTO:-0700
TZNAME:PDT
DTSTART:20260308T100000
END:DAYLIGHT
BEGIN:STANDARD
TZOFFSETFROM:-0700
TZOFFSETTO:-0800
TZNAME:PST
DTSTART:20261101T090000
END:STANDARD
END:VTIMEZONE
BEGIN:VEVENT
DTSTART;TZID=America/Los_Angeles:20260521T100000
DTEND;TZID=America/Los_Angeles:20260521T103000
DTSTAMP:20260423T100555
CREATED:20260406T175508Z
LAST-MODIFIED:20260406T203107Z
UID:10017966-1779357600-1779359400@visitcmod.org
SUMMARY:Bilingual Tortoise Talk
DESCRIPTION:Enjoy Tortoise Talk in Spanish! \nMeet Sebastian\, the 57 year old North American Desert Tortoise! Guests can get an up close look at Sebastian the tortoise and learn about his different adaptations.
URL:https://visitcmod.org/events/bilingual-tortoise-talk-3/2026-05-21/
LOCATION:Children’s Museum of Discovery\, 320 North Broadway\, Escondido\, CA\, 92025\, United States
CATEGORIES:Science
ATTACH;FMTTYPE=image/jpeg:https://visitcmod.org/wp-content/uploads/2024/07/Sebastian-The-Turtle.jpg
END:VEVENT
BEGIN:VEVENT
DTSTART;TZID=America/Los_Angeles:20260521T100000
DTEND;TZID=America/Los_Angeles:20260521T110000
DTSTAMP:20260423T100555
CREATED:20260310T220110Z
LAST-MODIFIED:20260310T220110Z
UID:10017571-1779357600-1779361200@visitcmod.org
SUMMARY:Music Pop-Up
DESCRIPTION:Enjoy special music pop-up with Music n Me Music Together! Kiddos will sing\, dance\, and make music with our special guests. \nMiss Keila is a working musician and experienced early childhood music educator who has been teaching Music Together® for over 10 years. She loves working with toddlers and families\, bringing music into everyday life through singing\, movement\, and playful musical exploration. \nIn Miss Keila’s sessions\, families sing\, move\, and play together while building basic music skills that support creativity\, speech development\, coordination\, and confidence. Children learn best through joyful interaction\, and caregivers are encouraged to participate right alongside them—making music a shared experience. \nExpect lots of fun\, laughter\, and musical play with bells\, scarves\, shakers\, and of course… the parachute! These interactive demos are designed to spark curiosity\, encourage active learning\, and leave families smiling long after the music ends.
URL:https://visitcmod.org/events/music-pop-up-5/2026-05-21/
LOCATION:Children’s Museum of Discovery\, 320 North Broadway\, Escondido\, CA\, 92025\, United States
CATEGORIES:Art,Movement / Physical Activity,Music
ATTACH;FMTTYPE=image/png:https://visitcmod.org/wp-content/uploads/2024/08/music-pop-up.png
END:VEVENT
BEGIN:VEVENT
DTSTART;TZID=America/Los_Angeles:20260521T110000
DTEND;TZID=America/Los_Angeles:20260521T113000
DTSTAMP:20260423T100555
CREATED:20260123T194618Z
LAST-MODIFIED:20260416T190435Z
UID:10018125-1779361200-1779363000@visitcmod.org
SUMMARY:Bilingual Garden Workshop
DESCRIPTION:Enjoy a Garden Workshop with our Educators in Spanish!
URL:https://visitcmod.org/events/bilingual-garden-workshop-20/2026-05-21/
LOCATION:Children’s Museum of Discovery\, 320 North Broadway\, Escondido\, CA\, 92025\, United States
CATEGORIES:Art,STEM / STEAM
ATTACH;FMTTYPE=image/png:https://visitcmod.org/wp-content/uploads/2025/10/garden-workshop-general.png
END:VEVENT
BEGIN:VEVENT
DTSTART;TZID=America/Los_Angeles:20260521T120000
DTEND;TZID=America/Los_Angeles:20260521T130000
DTSTAMP:20260423T100555
CREATED:20260416T190204Z
LAST-MODIFIED:20260416T190204Z
UID:10018118-1779364800-1779368400@visitcmod.org
SUMMARY:Bilingual Family Workshop
DESCRIPTION:Enjoy a Family Workshop with our Educators in Spanish! \nColor and paint the amazing fish who can light their own way using bioluminescence.
URL:https://visitcmod.org/events/bilingual-family-workshop-42/2026-05-21/
LOCATION:Children’s Museum of Discovery\, 320 North Broadway\, Escondido\, CA\, 92025\, United States
CATEGORIES:Art,STEM / STEAM
ATTACH;FMTTYPE=image/jpeg:https://visitcmod.org/wp-content/uploads/2026/04/IMG_3679_square.jpg
END:VEVENT
BEGIN:VEVENT
DTSTART;TZID=America/Los_Angeles:20260521T140000
DTEND;TZID=America/Los_Angeles:20260521T143000
DTSTAMP:20260423T100555
CREATED:20260326T164558Z
LAST-MODIFIED:20260416T190452Z
UID:10018160-1779372000-1779373800@visitcmod.org
SUMMARY:Bilingual Garden Workshop
DESCRIPTION:Enjoy a Garden Workshop with our Educators in Spanish!
URL:https://visitcmod.org/events/bilingual-garden-workshop-21-2/2026-05-21/
LOCATION:Children’s Museum of Discovery\, 320 North Broadway\, Escondido\, CA\, 92025\, United States
CATEGORIES:Art,STEM / STEAM
ATTACH;FMTTYPE=image/png:https://visitcmod.org/wp-content/uploads/2025/10/garden-workshop-general.png
END:VEVENT
BEGIN:VEVENT
DTSTART;TZID=America/Los_Angeles:20260521T150000
DTEND;TZID=America/Los_Angeles:20260521T160000
DTSTAMP:20260423T100555
CREATED:20260416T190259Z
LAST-MODIFIED:20260416T190259Z
UID:10018122-1779375600-1779379200@visitcmod.org
SUMMARY:Bilingual Family Workshop
DESCRIPTION:Enjoy a Family Workshop with our Educators in Spanish! \nColor and paint the amazing fish who can light their own way using bioluminescence.
URL:https://visitcmod.org/events/bilingual-family-workshop-43/2026-05-21/
LOCATION:Children’s Museum of Discovery\, 320 North Broadway\, Escondido\, CA\, 92025\, United States
CATEGORIES:Art,STEM / STEAM
ATTACH;FMTTYPE=image/jpeg:https://visitcmod.org/wp-content/uploads/2026/04/IMG_3679_square.jpg
END:VEVENT
END:VCALENDAR