BEGIN:VCALENDAR
VERSION:2.0
PRODID:-//Children&#039;s Museum of Discovery - ECPv6.10.1.1//NONSGML v1.0//EN
CALSCALE:GREGORIAN
METHOD:PUBLISH
X-WR-CALNAME:Children&#039;s Museum of Discovery
X-ORIGINAL-URL:https://visitcmod.org
X-WR-CALDESC:Events for Children&#039;s Museum of Discovery
REFRESH-INTERVAL;VALUE=DURATION:PT1H
X-Robots-Tag:noindex
X-PUBLISHED-TTL:PT1H
BEGIN:VTIMEZONE
TZID:America/Los_Angeles
BEGIN:DAYLIGHT
TZOFFSETFROM:-0800
TZOFFSETTO:-0700
TZNAME:PDT
DTSTART:20260308T100000
END:DAYLIGHT
BEGIN:STANDARD
TZOFFSETFROM:-0700
TZOFFSETTO:-0800
TZNAME:PST
DTSTART:20261101T090000
END:STANDARD
END:VTIMEZONE
BEGIN:VEVENT
DTSTART;TZID=America/Los_Angeles:20260612T100000
DTEND;TZID=America/Los_Angeles:20260612T103000
DTSTAMP:20260423T142023
CREATED:20260406T175419Z
LAST-MODIFIED:20260417T183201Z
UID:10017841-1781258400-1781260200@visitcmod.org
SUMMARY:Tortoise Talk
DESCRIPTION:Meet Sebastian\, the 57 year old North American Desert Tortoise! Guests can get an up close look at Sebastian the tortoise and learn about his different adaptations.
URL:https://visitcmod.org/events/tortoise-talk-4/2026-06-12/
LOCATION:Children’s Museum of Discovery\, 320 North Broadway\, Escondido\, CA\, 92025\, United States
CATEGORIES:Science
ATTACH;FMTTYPE=image/jpeg:https://visitcmod.org/wp-content/uploads/2024/07/Sebastian-The-Turtle.jpg
END:VEVENT
BEGIN:VEVENT
DTSTART;TZID=America/Los_Angeles:20260612T110000
DTEND;TZID=America/Los_Angeles:20260612T113000
DTSTAMP:20260423T142023
CREATED:20251022T202247Z
LAST-MODIFIED:20260417T183233Z
UID:10015722-1781262000-1781263800@visitcmod.org
SUMMARY:Garden Workshop
DESCRIPTION:Enjoy a Garden Workshop with our Educators!
URL:https://visitcmod.org/events/garden-workshop-15/2026-06-12/
LOCATION:Children’s Museum of Discovery\, 320 North Broadway\, Escondido\, CA\, 92025\, United States
CATEGORIES:Art,STEM / STEAM
ATTACH;FMTTYPE=image/png:https://visitcmod.org/wp-content/uploads/2025/10/garden-workshop-general.png
END:VEVENT
BEGIN:VEVENT
DTSTART;TZID=America/Los_Angeles:20260612T110000
DTEND;TZID=America/Los_Angeles:20260612T120000
DTSTAMP:20260423T142023
CREATED:20240806T225900Z
LAST-MODIFIED:20260410T153057Z
UID:10015015-1781262000-1781265600@visitcmod.org
SUMMARY:Jimbo's Garden Workshop
DESCRIPTION:Enjoy a special garden workshop in the Trudy Bronner Discovery Garden with local\, seasonal ingredients from  Jimbo’s! \nPre-registration is not required. FREE with Museum Admission.
URL:https://visitcmod.org/events/jimbos-garden-workshop/2026-06-12/
LOCATION:Children’s Museum of Discovery\, 320 North Broadway\, Escondido\, CA\, 92025\, United States
CATEGORIES:Messy Play,Special Family Event
ATTACH;FMTTYPE=image/jpeg:https://visitcmod.org/wp-content/uploads/2024/07/DSC_0226.jpg
END:VEVENT
BEGIN:VEVENT
DTSTART;TZID=America/Los_Angeles:20260612T140000
DTEND;TZID=America/Los_Angeles:20260612T143000
DTSTAMP:20260423T142023
CREATED:20251022T202338Z
LAST-MODIFIED:20260317T175903Z
UID:10015930-1781272800-1781274600@visitcmod.org
SUMMARY:Garden Workshop
DESCRIPTION:Enjoy a Garden Workshop with our Educators!
URL:https://visitcmod.org/events/garden-workshop-16/2026-06-12/
LOCATION:Children’s Museum of Discovery\, 320 North Broadway\, Escondido\, CA\, 92025\, United States
CATEGORIES:Art,STEM / STEAM
ATTACH;FMTTYPE=image/png:https://visitcmod.org/wp-content/uploads/2025/10/garden-workshop-general.png
END:VEVENT
END:VCALENDAR