BEGIN:VCALENDAR
VERSION:2.0
PRODID:-//Children&#039;s Museum of Discovery - ECPv6.10.1.1//NONSGML v1.0//EN
CALSCALE:GREGORIAN
METHOD:PUBLISH
X-WR-CALNAME:Children&#039;s Museum of Discovery
X-ORIGINAL-URL:https://visitcmod.org
X-WR-CALDESC:Events for Children&#039;s Museum of Discovery
REFRESH-INTERVAL;VALUE=DURATION:PT1H
X-Robots-Tag:noindex
X-PUBLISHED-TTL:PT1H
BEGIN:VTIMEZONE
TZID:America/Los_Angeles
BEGIN:DAYLIGHT
TZOFFSETFROM:-0800
TZOFFSETTO:-0700
TZNAME:PDT
DTSTART:20260308T100000
END:DAYLIGHT
BEGIN:STANDARD
TZOFFSETFROM:-0700
TZOFFSETTO:-0800
TZNAME:PST
DTSTART:20261101T090000
END:STANDARD
END:VTIMEZONE
BEGIN:VEVENT
DTSTART;TZID=America/Los_Angeles:20260616T083000
DTEND;TZID=America/Los_Angeles:20260616T093000
DTSTAMP:20260423T152944
CREATED:20251216T183744Z
LAST-MODIFIED:20251216T183744Z
UID:10015457-1781598600-1781602200@visitcmod.org
SUMMARY:Member's Only Hours
DESCRIPTION:Join us every Tuesday from 8:30 a.m. – 9:30 a.m. for our Member’s Only Hours.
URL:https://visitcmod.org/events/members-only-hours-2/2026-06-16/
LOCATION:Children’s Museum of Discovery\, 320 North Broadway\, Escondido\, CA\, 92025\, United States
CATEGORIES:Art,STEM / STEAM
ATTACH;FMTTYPE=image/jpeg:https://visitcmod.org/wp-content/uploads/2024/07/Light-Table.jpg
END:VEVENT
BEGIN:VEVENT
DTSTART;TZID=America/Los_Angeles:20260616T090000
DTEND;TZID=America/Los_Angeles:20260616T143000
DTSTAMP:20260423T152944
CREATED:20260223T204932Z
LAST-MODIFIED:20260223T204932Z
UID:10017455-1781600400-1781620200@visitcmod.org
SUMMARY:Summer Camp
DESCRIPTION:Are you a creative and curious problem solver? Spend the summer exploring with the Children’s Museum of Discovery! Each day of camp includes access to Museum exhibits\, hands-on exploration with trained education staff\, and an opportunity to make new friends. \nExplore engineering\, practice your paleontology skills\, and blast off into outer space with endless opportunities to explore\, imagine\, and experiment. Register now to join us for a summer of FUN! \n  \nLittle Explorers Camp\nAges: 4 – 5 years old\nHours: 9:00 a.m. – 2:30 p.m. \nBig Explorers Camp\nAges: 6 – 8 years old\nHours: 9:00 a.m. – 2:30 p.m. \nRegister Here
URL:https://visitcmod.org/events/summer-camp-4/2026-06-16/
LOCATION:Children’s Museum of Discovery\, 320 North Broadway\, Escondido\, CA\, 92025\, United States
CATEGORIES:Art,Language Arts / Storytime,Science,STEM / STEAM
ATTACH;FMTTYPE=image/png:https://visitcmod.org/wp-content/uploads/2026/02/Summer_Camp_2026_Calendar_Image.png
END:VEVENT
BEGIN:VEVENT
DTSTART;TZID=America/Los_Angeles:20260616T100000
DTEND;TZID=America/Los_Angeles:20260616T103000
DTSTAMP:20260423T152944
CREATED:20260406T175419Z
LAST-MODIFIED:20260417T183201Z
UID:10017844-1781604000-1781605800@visitcmod.org
SUMMARY:Tortoise Talk
DESCRIPTION:Meet Sebastian\, the 57 year old North American Desert Tortoise! Guests can get an up close look at Sebastian the tortoise and learn about his different adaptations.
URL:https://visitcmod.org/events/tortoise-talk-4/2026-06-16/
LOCATION:Children’s Museum of Discovery\, 320 North Broadway\, Escondido\, CA\, 92025\, United States
CATEGORIES:Science
ATTACH;FMTTYPE=image/jpeg:https://visitcmod.org/wp-content/uploads/2024/07/Sebastian-The-Turtle.jpg
END:VEVENT
BEGIN:VEVENT
DTSTART;TZID=America/Los_Angeles:20260616T110000
DTEND;TZID=America/Los_Angeles:20260616T113000
DTSTAMP:20260423T152944
CREATED:20251022T202247Z
LAST-MODIFIED:20260417T183233Z
UID:10016557-1781607600-1781609400@visitcmod.org
SUMMARY:Garden Workshop
DESCRIPTION:Enjoy a Garden Workshop with our Educators!
URL:https://visitcmod.org/events/garden-workshop-15/2026-06-16/
LOCATION:Children’s Museum of Discovery\, 320 North Broadway\, Escondido\, CA\, 92025\, United States
CATEGORIES:Art,STEM / STEAM
ATTACH;FMTTYPE=image/png:https://visitcmod.org/wp-content/uploads/2025/10/garden-workshop-general.png
END:VEVENT
BEGIN:VEVENT
DTSTART;TZID=America/Los_Angeles:20260616T140000
DTEND;TZID=America/Los_Angeles:20260616T143000
DTSTAMP:20260423T152944
CREATED:20251022T202338Z
LAST-MODIFIED:20260317T175903Z
UID:10016618-1781618400-1781620200@visitcmod.org
SUMMARY:Garden Workshop
DESCRIPTION:Enjoy a Garden Workshop with our Educators!
URL:https://visitcmod.org/events/garden-workshop-16/2026-06-16/
LOCATION:Children’s Museum of Discovery\, 320 North Broadway\, Escondido\, CA\, 92025\, United States
CATEGORIES:Art,STEM / STEAM
ATTACH;FMTTYPE=image/png:https://visitcmod.org/wp-content/uploads/2025/10/garden-workshop-general.png
END:VEVENT
END:VCALENDAR