BEGIN:VCALENDAR
VERSION:2.0
PRODID:-//Children&#039;s Museum of Discovery - ECPv6.10.1.1//NONSGML v1.0//EN
CALSCALE:GREGORIAN
METHOD:PUBLISH
X-WR-CALNAME:Children&#039;s Museum of Discovery
X-ORIGINAL-URL:https://visitcmod.org
X-WR-CALDESC:Events for Children&#039;s Museum of Discovery
REFRESH-INTERVAL;VALUE=DURATION:PT1H
X-Robots-Tag:noindex
X-PUBLISHED-TTL:PT1H
BEGIN:VTIMEZONE
TZID:America/Los_Angeles
BEGIN:DAYLIGHT
TZOFFSETFROM:-0800
TZOFFSETTO:-0700
TZNAME:PDT
DTSTART:20260308T100000
END:DAYLIGHT
BEGIN:STANDARD
TZOFFSETFROM:-0700
TZOFFSETTO:-0800
TZNAME:PST
DTSTART:20261101T090000
END:STANDARD
END:VTIMEZONE
BEGIN:VEVENT
DTSTART;TZID=America/Los_Angeles:20260329T100000
DTEND;TZID=America/Los_Angeles:20260329T103000
DTSTAMP:20260423T072348
CREATED:20251022T211100Z
LAST-MODIFIED:20260406T175630Z
UID:10015628-1774778400-1774780200@visitcmod.org
SUMMARY:Fossil Talk
DESCRIPTION:Join us in Base Camp and learn about different fossils!
URL:https://visitcmod.org/events/fossil-talk/2026-03-29/
LOCATION:Children’s Museum of Discovery\, 320 North Broadway\, Escondido\, CA\, 92025\, United States
CATEGORIES:Science
ATTACH;FMTTYPE=image/png:https://visitcmod.org/wp-content/uploads/2025/10/Fossil-Talk.png
END:VEVENT
BEGIN:VEVENT
DTSTART;TZID=America/Los_Angeles:20260330T093000
DTEND;TZID=America/Los_Angeles:20260330T163000
DTSTAMP:20260423T072348
CREATED:20240713T212826Z
LAST-MODIFIED:20250117T185259Z
UID:10010950-1774863000-1774888200@visitcmod.org
SUMMARY:Museum Closed
DESCRIPTION:The Museum is closed.
URL:https://visitcmod.org/events/museum-closed/2026-03-30/
LOCATION:Children’s Museum of Discovery\, 320 North Broadway\, Escondido\, CA\, 92025\, United States
CATEGORIES:Art,Culture,Dinosaurs / Paleontology,Language Arts / Storytime,Messy Play,Movement / Physical Activity,Music,Science,STEM / STEAM,Theater / Performance
ATTACH;FMTTYPE=image/jpeg:https://visitcmod.org/wp-content/uploads/2024/07/Museum-Closed-scaled.jpg
END:VEVENT
BEGIN:VEVENT
DTSTART;TZID=America/Los_Angeles:20260331T100000
DTEND;TZID=America/Los_Angeles:20260331T103000
DTSTAMP:20260423T072348
CREATED:20251022T211100Z
LAST-MODIFIED:20260406T175630Z
UID:10015629-1774951200-1774953000@visitcmod.org
SUMMARY:Fossil Talk
DESCRIPTION:Join us in Base Camp and learn about different fossils!
URL:https://visitcmod.org/events/fossil-talk/2026-03-31/
LOCATION:Children’s Museum of Discovery\, 320 North Broadway\, Escondido\, CA\, 92025\, United States
CATEGORIES:Science
ATTACH;FMTTYPE=image/png:https://visitcmod.org/wp-content/uploads/2025/10/Fossil-Talk.png
END:VEVENT
BEGIN:VEVENT
DTSTART;TZID=America/Los_Angeles:20260401T100000
DTEND;TZID=America/Los_Angeles:20260401T103000
DTSTAMP:20260423T072348
CREATED:20251022T211100Z
LAST-MODIFIED:20260406T175630Z
UID:10017637-1775037600-1775039400@visitcmod.org
SUMMARY:Fossil Talk
DESCRIPTION:Join us in Base Camp and learn about different fossils!
URL:https://visitcmod.org/events/fossil-talk/2026-04-01/
LOCATION:Children’s Museum of Discovery\, 320 North Broadway\, Escondido\, CA\, 92025\, United States
CATEGORIES:Science
ATTACH;FMTTYPE=image/png:https://visitcmod.org/wp-content/uploads/2025/10/Fossil-Talk.png
END:VEVENT
BEGIN:VEVENT
DTSTART;TZID=America/Los_Angeles:20260402T100000
DTEND;TZID=America/Los_Angeles:20260402T103000
DTSTAMP:20260423T072348
CREATED:20251022T211242Z
LAST-MODIFIED:20260406T175712Z
UID:10016107-1775124000-1775125800@visitcmod.org
SUMMARY:Bilingual Fossil Talk
DESCRIPTION:Enjoy Fossil Talk in Spanish! \nJoin us in Base Camp and learn about different fossils!
URL:https://visitcmod.org/events/bilingual-tortoise-talk-2/2026-04-02/
LOCATION:Children’s Museum of Discovery\, 320 North Broadway\, Escondido\, CA\, 92025\, United States
CATEGORIES:Science
ATTACH;FMTTYPE=image/png:https://visitcmod.org/wp-content/uploads/2025/10/Fossil-Talk.png
END:VEVENT
BEGIN:VEVENT
DTSTART;TZID=America/Los_Angeles:20260403T100000
DTEND;TZID=America/Los_Angeles:20260403T103000
DTSTAMP:20260423T072348
CREATED:20251022T211100Z
LAST-MODIFIED:20260406T175630Z
UID:10017638-1775210400-1775212200@visitcmod.org
SUMMARY:Fossil Talk
DESCRIPTION:Join us in Base Camp and learn about different fossils!
URL:https://visitcmod.org/events/fossil-talk/2026-04-03/
LOCATION:Children’s Museum of Discovery\, 320 North Broadway\, Escondido\, CA\, 92025\, United States
CATEGORIES:Science
ATTACH;FMTTYPE=image/png:https://visitcmod.org/wp-content/uploads/2025/10/Fossil-Talk.png
END:VEVENT
END:VCALENDAR