BEGIN:VCALENDAR
VERSION:2.0
PRODID:-//Children&#039;s Museum of Discovery - ECPv6.10.1.1//NONSGML v1.0//EN
CALSCALE:GREGORIAN
METHOD:PUBLISH
X-ORIGINAL-URL:https://visitcmod.org
X-WR-CALDESC:Events for Children&#039;s Museum of Discovery
REFRESH-INTERVAL;VALUE=DURATION:PT1H
X-Robots-Tag:noindex
X-PUBLISHED-TTL:PT1H
BEGIN:VTIMEZONE
TZID:America/Los_Angeles
BEGIN:DAYLIGHT
TZOFFSETFROM:-0800
TZOFFSETTO:-0700
TZNAME:PDT
DTSTART:20260308T100000
END:DAYLIGHT
BEGIN:STANDARD
TZOFFSETFROM:-0700
TZOFFSETTO:-0800
TZNAME:PST
DTSTART:20261101T090000
END:STANDARD
END:VTIMEZONE
BEGIN:VEVENT
DTSTART;TZID=America/Los_Angeles:20260709T140000
DTEND;TZID=America/Los_Angeles:20260709T143000
DTSTAMP:20260423T063956
CREATED:20260326T164558Z
LAST-MODIFIED:20260416T190452Z
UID:10018167-1783605600-1783607400@visitcmod.org
SUMMARY:Bilingual Garden Workshop
DESCRIPTION:Enjoy a Garden Workshop with our Educators in Spanish!
URL:https://visitcmod.org/events/bilingual-garden-workshop-21-2/2026-07-09/
LOCATION:Children’s Museum of Discovery\, 320 North Broadway\, Escondido\, CA\, 92025\, United States
CATEGORIES:Art,STEM / STEAM
ATTACH;FMTTYPE=image/png:https://visitcmod.org/wp-content/uploads/2025/10/garden-workshop-general.png
END:VEVENT
BEGIN:VEVENT
DTSTART;TZID=America/Los_Angeles:20260710T090000
DTEND;TZID=America/Los_Angeles:20260710T143000
DTSTAMP:20260423T063956
CREATED:20260223T204932Z
LAST-MODIFIED:20260223T204932Z
UID:10017473-1783674000-1783693800@visitcmod.org
SUMMARY:Summer Camp
DESCRIPTION:Are you a creative and curious problem solver? Spend the summer exploring with the Children’s Museum of Discovery! Each day of camp includes access to Museum exhibits\, hands-on exploration with trained education staff\, and an opportunity to make new friends. \nExplore engineering\, practice your paleontology skills\, and blast off into outer space with endless opportunities to explore\, imagine\, and experiment. Register now to join us for a summer of FUN! \n  \nLittle Explorers Camp\nAges: 4 – 5 years old\nHours: 9:00 a.m. – 2:30 p.m. \nBig Explorers Camp\nAges: 6 – 8 years old\nHours: 9:00 a.m. – 2:30 p.m. \nRegister Here
URL:https://visitcmod.org/events/summer-camp-4/2026-07-10/
LOCATION:Children’s Museum of Discovery\, 320 North Broadway\, Escondido\, CA\, 92025\, United States
CATEGORIES:Art,Language Arts / Storytime,Science,STEM / STEAM
ATTACH;FMTTYPE=image/png:https://visitcmod.org/wp-content/uploads/2026/02/Summer_Camp_2026_Calendar_Image.png
END:VEVENT
BEGIN:VEVENT
DTSTART;TZID=America/Los_Angeles:20260710T100000
DTEND;TZID=America/Los_Angeles:20260710T103000
DTSTAMP:20260423T063956
CREATED:20260406T175419Z
LAST-MODIFIED:20260417T183201Z
UID:10017861-1783677600-1783679400@visitcmod.org
SUMMARY:Tortoise Talk
DESCRIPTION:Meet Sebastian\, the 57 year old North American Desert Tortoise! Guests can get an up close look at Sebastian the tortoise and learn about his different adaptations.
URL:https://visitcmod.org/events/tortoise-talk-4/2026-07-10/
LOCATION:Children’s Museum of Discovery\, 320 North Broadway\, Escondido\, CA\, 92025\, United States
CATEGORIES:Science
ATTACH;FMTTYPE=image/jpeg:https://visitcmod.org/wp-content/uploads/2024/07/Sebastian-The-Turtle.jpg
END:VEVENT
BEGIN:VEVENT
DTSTART;TZID=America/Los_Angeles:20260710T110000
DTEND;TZID=America/Los_Angeles:20260710T113000
DTSTAMP:20260423T063956
CREATED:20251022T202247Z
LAST-MODIFIED:20260417T183233Z
UID:10015738-1783681200-1783683000@visitcmod.org
SUMMARY:Garden Workshop
DESCRIPTION:Enjoy a Garden Workshop with our Educators!
URL:https://visitcmod.org/events/garden-workshop-15/2026-07-10/
LOCATION:Children’s Museum of Discovery\, 320 North Broadway\, Escondido\, CA\, 92025\, United States
CATEGORIES:Art,STEM / STEAM
ATTACH;FMTTYPE=image/png:https://visitcmod.org/wp-content/uploads/2025/10/garden-workshop-general.png
END:VEVENT
BEGIN:VEVENT
DTSTART;TZID=America/Los_Angeles:20260710T110000
DTEND;TZID=America/Los_Angeles:20260710T120000
DTSTAMP:20260423T063956
CREATED:20240806T225900Z
LAST-MODIFIED:20260410T153057Z
UID:10015016-1783681200-1783684800@visitcmod.org
SUMMARY:Jimbo's Garden Workshop
DESCRIPTION:Enjoy a special garden workshop in the Trudy Bronner Discovery Garden with local\, seasonal ingredients from  Jimbo’s! \nPre-registration is not required. FREE with Museum Admission.
URL:https://visitcmod.org/events/jimbos-garden-workshop/2026-07-10/
LOCATION:Children’s Museum of Discovery\, 320 North Broadway\, Escondido\, CA\, 92025\, United States
CATEGORIES:Messy Play,Special Family Event
ATTACH;FMTTYPE=image/jpeg:https://visitcmod.org/wp-content/uploads/2024/07/DSC_0226.jpg
END:VEVENT
BEGIN:VEVENT
DTSTART;TZID=America/Los_Angeles:20260710T140000
DTEND;TZID=America/Los_Angeles:20260710T143000
DTSTAMP:20260423T063956
CREATED:20251022T202338Z
LAST-MODIFIED:20260317T175903Z
UID:10015946-1783692000-1783693800@visitcmod.org
SUMMARY:Garden Workshop
DESCRIPTION:Enjoy a Garden Workshop with our Educators!
URL:https://visitcmod.org/events/garden-workshop-16/2026-07-10/
LOCATION:Children’s Museum of Discovery\, 320 North Broadway\, Escondido\, CA\, 92025\, United States
CATEGORIES:Art,STEM / STEAM
ATTACH;FMTTYPE=image/png:https://visitcmod.org/wp-content/uploads/2025/10/garden-workshop-general.png
END:VEVENT
BEGIN:VEVENT
DTSTART;TZID=America/Los_Angeles:20260711T100000
DTEND;TZID=America/Los_Angeles:20260711T103000
DTSTAMP:20260423T063956
CREATED:20260406T175419Z
LAST-MODIFIED:20260417T183201Z
UID:10017862-1783764000-1783765800@visitcmod.org
SUMMARY:Tortoise Talk
DESCRIPTION:Meet Sebastian\, the 57 year old North American Desert Tortoise! Guests can get an up close look at Sebastian the tortoise and learn about his different adaptations.
URL:https://visitcmod.org/events/tortoise-talk-4/2026-07-11/
LOCATION:Children’s Museum of Discovery\, 320 North Broadway\, Escondido\, CA\, 92025\, United States
CATEGORIES:Science
ATTACH;FMTTYPE=image/jpeg:https://visitcmod.org/wp-content/uploads/2024/07/Sebastian-The-Turtle.jpg
END:VEVENT
BEGIN:VEVENT
DTSTART;TZID=America/Los_Angeles:20260711T110000
DTEND;TZID=America/Los_Angeles:20260711T113000
DTSTAMP:20260423T063956
CREATED:20251022T202247Z
LAST-MODIFIED:20260417T183233Z
UID:10015739-1783767600-1783769400@visitcmod.org
SUMMARY:Garden Workshop
DESCRIPTION:Enjoy a Garden Workshop with our Educators!
URL:https://visitcmod.org/events/garden-workshop-15/2026-07-11/
LOCATION:Children’s Museum of Discovery\, 320 North Broadway\, Escondido\, CA\, 92025\, United States
CATEGORIES:Art,STEM / STEAM
ATTACH;FMTTYPE=image/png:https://visitcmod.org/wp-content/uploads/2025/10/garden-workshop-general.png
END:VEVENT
BEGIN:VEVENT
DTSTART;TZID=America/Los_Angeles:20260711T140000
DTEND;TZID=America/Los_Angeles:20260711T143000
DTSTAMP:20260423T063956
CREATED:20251022T202338Z
LAST-MODIFIED:20260317T175903Z
UID:10015947-1783778400-1783780200@visitcmod.org
SUMMARY:Garden Workshop
DESCRIPTION:Enjoy a Garden Workshop with our Educators!
URL:https://visitcmod.org/events/garden-workshop-16/2026-07-11/
LOCATION:Children’s Museum of Discovery\, 320 North Broadway\, Escondido\, CA\, 92025\, United States
CATEGORIES:Art,STEM / STEAM
ATTACH;FMTTYPE=image/png:https://visitcmod.org/wp-content/uploads/2025/10/garden-workshop-general.png
END:VEVENT
BEGIN:VEVENT
DTSTART;TZID=America/Los_Angeles:20260712T090000
DTEND;TZID=America/Los_Angeles:20260712T103000
DTSTAMP:20260423T063956
CREATED:20251216T183900Z
LAST-MODIFIED:20251216T183900Z
UID:10015541-1783846800-1783852200@visitcmod.org
SUMMARY:Sensory Friendly Mornings
DESCRIPTION:Join us every Sunday from 9:00 a.m. – 10:30 a.m. for early mornings geared for families with children on the spectrum or with sensory sensitivities: \n\nJoin a welcoming\, comfortable environment\nEnjoy the Museum in a quiet and accepting setting\nMake connections and share resources with other families\n\nFree with Museum admission.
URL:https://visitcmod.org/events/sensory-friendly-mornings-2/2026-07-12/
LOCATION:Children’s Museum of Discovery\, 320 North Broadway\, Escondido\, CA\, 92025\, United States
CATEGORIES:Art,Language Arts / Storytime
ATTACH;FMTTYPE=image/jpeg:https://visitcmod.org/wp-content/uploads/2024/07/Sensory-Accomodations-New-scaled.jpg
END:VEVENT
BEGIN:VEVENT
DTSTART;TZID=America/Los_Angeles:20260712T100000
DTEND;TZID=America/Los_Angeles:20260712T103000
DTSTAMP:20260423T063956
CREATED:20260406T175419Z
LAST-MODIFIED:20260417T183201Z
UID:10017863-1783850400-1783852200@visitcmod.org
SUMMARY:Tortoise Talk
DESCRIPTION:Meet Sebastian\, the 57 year old North American Desert Tortoise! Guests can get an up close look at Sebastian the tortoise and learn about his different adaptations.
URL:https://visitcmod.org/events/tortoise-talk-4/2026-07-12/
LOCATION:Children’s Museum of Discovery\, 320 North Broadway\, Escondido\, CA\, 92025\, United States
CATEGORIES:Science
ATTACH;FMTTYPE=image/jpeg:https://visitcmod.org/wp-content/uploads/2024/07/Sebastian-The-Turtle.jpg
END:VEVENT
BEGIN:VEVENT
DTSTART;TZID=America/Los_Angeles:20260712T110000
DTEND;TZID=America/Los_Angeles:20260712T113000
DTSTAMP:20260423T063956
CREATED:20251022T202247Z
LAST-MODIFIED:20260417T183233Z
UID:10015740-1783854000-1783855800@visitcmod.org
SUMMARY:Garden Workshop
DESCRIPTION:Enjoy a Garden Workshop with our Educators!
URL:https://visitcmod.org/events/garden-workshop-15/2026-07-12/
LOCATION:Children’s Museum of Discovery\, 320 North Broadway\, Escondido\, CA\, 92025\, United States
CATEGORIES:Art,STEM / STEAM
ATTACH;FMTTYPE=image/png:https://visitcmod.org/wp-content/uploads/2025/10/garden-workshop-general.png
END:VEVENT
BEGIN:VEVENT
DTSTART;TZID=America/Los_Angeles:20260712T140000
DTEND;TZID=America/Los_Angeles:20260712T143000
DTSTAMP:20260423T063956
CREATED:20251022T202338Z
LAST-MODIFIED:20260317T175903Z
UID:10015948-1783864800-1783866600@visitcmod.org
SUMMARY:Garden Workshop
DESCRIPTION:Enjoy a Garden Workshop with our Educators!
URL:https://visitcmod.org/events/garden-workshop-16/2026-07-12/
LOCATION:Children’s Museum of Discovery\, 320 North Broadway\, Escondido\, CA\, 92025\, United States
CATEGORIES:Art,STEM / STEAM
ATTACH;FMTTYPE=image/png:https://visitcmod.org/wp-content/uploads/2025/10/garden-workshop-general.png
END:VEVENT
BEGIN:VEVENT
DTSTART;TZID=America/Los_Angeles:20260713T090000
DTEND;TZID=America/Los_Angeles:20260713T143000
DTSTAMP:20260423T063956
CREATED:20260223T204932Z
LAST-MODIFIED:20260223T204932Z
UID:10017474-1783933200-1783953000@visitcmod.org
SUMMARY:Summer Camp
DESCRIPTION:Are you a creative and curious problem solver? Spend the summer exploring with the Children’s Museum of Discovery! Each day of camp includes access to Museum exhibits\, hands-on exploration with trained education staff\, and an opportunity to make new friends. \nExplore engineering\, practice your paleontology skills\, and blast off into outer space with endless opportunities to explore\, imagine\, and experiment. Register now to join us for a summer of FUN! \n  \nLittle Explorers Camp\nAges: 4 – 5 years old\nHours: 9:00 a.m. – 2:30 p.m. \nBig Explorers Camp\nAges: 6 – 8 years old\nHours: 9:00 a.m. – 2:30 p.m. \nRegister Here
URL:https://visitcmod.org/events/summer-camp-4/2026-07-13/
LOCATION:Children’s Museum of Discovery\, 320 North Broadway\, Escondido\, CA\, 92025\, United States
CATEGORIES:Art,Language Arts / Storytime,Science,STEM / STEAM
ATTACH;FMTTYPE=image/png:https://visitcmod.org/wp-content/uploads/2026/02/Summer_Camp_2026_Calendar_Image.png
END:VEVENT
BEGIN:VEVENT
DTSTART;TZID=America/Los_Angeles:20260713T093000
DTEND;TZID=America/Los_Angeles:20260713T163000
DTSTAMP:20260423T063956
CREATED:20240713T212826Z
LAST-MODIFIED:20250117T185259Z
UID:10010965-1783935000-1783960200@visitcmod.org
SUMMARY:Museum Closed
DESCRIPTION:The Museum is closed.
URL:https://visitcmod.org/events/museum-closed/2026-07-13/
LOCATION:Children’s Museum of Discovery\, 320 North Broadway\, Escondido\, CA\, 92025\, United States
CATEGORIES:Art,Culture,Dinosaurs / Paleontology,Language Arts / Storytime,Messy Play,Movement / Physical Activity,Music,Science,STEM / STEAM,Theater / Performance
ATTACH;FMTTYPE=image/jpeg:https://visitcmod.org/wp-content/uploads/2024/07/Museum-Closed-scaled.jpg
END:VEVENT
BEGIN:VEVENT
DTSTART;TZID=America/Los_Angeles:20260714T083000
DTEND;TZID=America/Los_Angeles:20260714T093000
DTSTAMP:20260423T063956
CREATED:20251216T183744Z
LAST-MODIFIED:20251216T183744Z
UID:10015461-1784017800-1784021400@visitcmod.org
SUMMARY:Member's Only Hours
DESCRIPTION:Join us every Tuesday from 8:30 a.m. – 9:30 a.m. for our Member’s Only Hours.
URL:https://visitcmod.org/events/members-only-hours-2/2026-07-14/
LOCATION:Children’s Museum of Discovery\, 320 North Broadway\, Escondido\, CA\, 92025\, United States
CATEGORIES:Art,STEM / STEAM
ATTACH;FMTTYPE=image/jpeg:https://visitcmod.org/wp-content/uploads/2024/07/Light-Table.jpg
END:VEVENT
BEGIN:VEVENT
DTSTART;TZID=America/Los_Angeles:20260714T090000
DTEND;TZID=America/Los_Angeles:20260714T143000
DTSTAMP:20260423T063956
CREATED:20260223T204932Z
LAST-MODIFIED:20260223T204932Z
UID:10017475-1784019600-1784039400@visitcmod.org
SUMMARY:Summer Camp
DESCRIPTION:Are you a creative and curious problem solver? Spend the summer exploring with the Children’s Museum of Discovery! Each day of camp includes access to Museum exhibits\, hands-on exploration with trained education staff\, and an opportunity to make new friends. \nExplore engineering\, practice your paleontology skills\, and blast off into outer space with endless opportunities to explore\, imagine\, and experiment. Register now to join us for a summer of FUN! \n  \nLittle Explorers Camp\nAges: 4 – 5 years old\nHours: 9:00 a.m. – 2:30 p.m. \nBig Explorers Camp\nAges: 6 – 8 years old\nHours: 9:00 a.m. – 2:30 p.m. \nRegister Here
URL:https://visitcmod.org/events/summer-camp-4/2026-07-14/
LOCATION:Children’s Museum of Discovery\, 320 North Broadway\, Escondido\, CA\, 92025\, United States
CATEGORIES:Art,Language Arts / Storytime,Science,STEM / STEAM
ATTACH;FMTTYPE=image/png:https://visitcmod.org/wp-content/uploads/2026/02/Summer_Camp_2026_Calendar_Image.png
END:VEVENT
BEGIN:VEVENT
DTSTART;TZID=America/Los_Angeles:20260714T100000
DTEND;TZID=America/Los_Angeles:20260714T103000
DTSTAMP:20260423T063956
CREATED:20251216T181713Z
LAST-MODIFIED:20251216T181713Z
UID:10015379-1784023200-1784025000@visitcmod.org
SUMMARY:Baby Storytime
DESCRIPTION:Enjoy a fun\, engaging storytime led by the Escondido Public Library and connect with local community resource partners\, including WestPac Wealth Partners and Gently Hugged\, plus a rotating guest partner each month. \nBaby Storytime is generously supported by WestPac Wealth Partners and the Escondido Public Library.
URL:https://visitcmod.org/events/baby-storytime-3/2026-07-14/
LOCATION:Toddler Tidepool\, 320 North Broadway\, Escondido\, CA\, 92025\, United States
CATEGORIES:Featured,Language Arts / Storytime
ATTACH;FMTTYPE=image/jpeg:https://visitcmod.org/wp-content/uploads/2024/07/SDCDM5.2024-13-scaled.jpg
END:VEVENT
BEGIN:VEVENT
DTSTART;TZID=America/Los_Angeles:20260714T100000
DTEND;TZID=America/Los_Angeles:20260714T103000
DTSTAMP:20260423T063956
CREATED:20260406T175419Z
LAST-MODIFIED:20260417T183201Z
UID:10017864-1784023200-1784025000@visitcmod.org
SUMMARY:Tortoise Talk
DESCRIPTION:Meet Sebastian\, the 57 year old North American Desert Tortoise! Guests can get an up close look at Sebastian the tortoise and learn about his different adaptations.
URL:https://visitcmod.org/events/tortoise-talk-4/2026-07-14/
LOCATION:Children’s Museum of Discovery\, 320 North Broadway\, Escondido\, CA\, 92025\, United States
CATEGORIES:Science
ATTACH;FMTTYPE=image/jpeg:https://visitcmod.org/wp-content/uploads/2024/07/Sebastian-The-Turtle.jpg
END:VEVENT
BEGIN:VEVENT
DTSTART;TZID=America/Los_Angeles:20260714T110000
DTEND;TZID=America/Los_Angeles:20260714T113000
DTSTAMP:20260423T063956
CREATED:20251022T202247Z
LAST-MODIFIED:20260417T183233Z
UID:10016561-1784026800-1784028600@visitcmod.org
SUMMARY:Garden Workshop
DESCRIPTION:Enjoy a Garden Workshop with our Educators!
URL:https://visitcmod.org/events/garden-workshop-15/2026-07-14/
LOCATION:Children’s Museum of Discovery\, 320 North Broadway\, Escondido\, CA\, 92025\, United States
CATEGORIES:Art,STEM / STEAM
ATTACH;FMTTYPE=image/png:https://visitcmod.org/wp-content/uploads/2025/10/garden-workshop-general.png
END:VEVENT
BEGIN:VEVENT
DTSTART;TZID=America/Los_Angeles:20260714T140000
DTEND;TZID=America/Los_Angeles:20260714T143000
DTSTAMP:20260423T063956
CREATED:20251022T202338Z
LAST-MODIFIED:20260317T175903Z
UID:10016622-1784037600-1784039400@visitcmod.org
SUMMARY:Garden Workshop
DESCRIPTION:Enjoy a Garden Workshop with our Educators!
URL:https://visitcmod.org/events/garden-workshop-16/2026-07-14/
LOCATION:Children’s Museum of Discovery\, 320 North Broadway\, Escondido\, CA\, 92025\, United States
CATEGORIES:Art,STEM / STEAM
ATTACH;FMTTYPE=image/png:https://visitcmod.org/wp-content/uploads/2025/10/garden-workshop-general.png
END:VEVENT
BEGIN:VEVENT
DTSTART;TZID=America/Los_Angeles:20260715T090000
DTEND;TZID=America/Los_Angeles:20260715T143000
DTSTAMP:20260423T063956
CREATED:20260223T204932Z
LAST-MODIFIED:20260223T204932Z
UID:10017476-1784106000-1784125800@visitcmod.org
SUMMARY:Summer Camp
DESCRIPTION:Are you a creative and curious problem solver? Spend the summer exploring with the Children’s Museum of Discovery! Each day of camp includes access to Museum exhibits\, hands-on exploration with trained education staff\, and an opportunity to make new friends. \nExplore engineering\, practice your paleontology skills\, and blast off into outer space with endless opportunities to explore\, imagine\, and experiment. Register now to join us for a summer of FUN! \n  \nLittle Explorers Camp\nAges: 4 – 5 years old\nHours: 9:00 a.m. – 2:30 p.m. \nBig Explorers Camp\nAges: 6 – 8 years old\nHours: 9:00 a.m. – 2:30 p.m. \nRegister Here
URL:https://visitcmod.org/events/summer-camp-4/2026-07-15/
LOCATION:Children’s Museum of Discovery\, 320 North Broadway\, Escondido\, CA\, 92025\, United States
CATEGORIES:Art,Language Arts / Storytime,Science,STEM / STEAM
ATTACH;FMTTYPE=image/png:https://visitcmod.org/wp-content/uploads/2026/02/Summer_Camp_2026_Calendar_Image.png
END:VEVENT
BEGIN:VEVENT
DTSTART;TZID=America/Los_Angeles:20260715T100000
DTEND;TZID=America/Los_Angeles:20260715T103000
DTSTAMP:20260423T063956
CREATED:20260406T175419Z
LAST-MODIFIED:20260417T183201Z
UID:10017865-1784109600-1784111400@visitcmod.org
SUMMARY:Tortoise Talk
DESCRIPTION:Meet Sebastian\, the 57 year old North American Desert Tortoise! Guests can get an up close look at Sebastian the tortoise and learn about his different adaptations.
URL:https://visitcmod.org/events/tortoise-talk-4/2026-07-15/
LOCATION:Children’s Museum of Discovery\, 320 North Broadway\, Escondido\, CA\, 92025\, United States
CATEGORIES:Science
ATTACH;FMTTYPE=image/jpeg:https://visitcmod.org/wp-content/uploads/2024/07/Sebastian-The-Turtle.jpg
END:VEVENT
BEGIN:VEVENT
DTSTART;TZID=America/Los_Angeles:20260715T110000
DTEND;TZID=America/Los_Angeles:20260715T113000
DTSTAMP:20260423T063956
CREATED:20251022T202247Z
LAST-MODIFIED:20260417T183233Z
UID:10015741-1784113200-1784115000@visitcmod.org
SUMMARY:Garden Workshop
DESCRIPTION:Enjoy a Garden Workshop with our Educators!
URL:https://visitcmod.org/events/garden-workshop-15/2026-07-15/
LOCATION:Children’s Museum of Discovery\, 320 North Broadway\, Escondido\, CA\, 92025\, United States
CATEGORIES:Art,STEM / STEAM
ATTACH;FMTTYPE=image/png:https://visitcmod.org/wp-content/uploads/2025/10/garden-workshop-general.png
END:VEVENT
BEGIN:VEVENT
DTSTART;TZID=America/Los_Angeles:20260715T140000
DTEND;TZID=America/Los_Angeles:20260715T143000
DTSTAMP:20260423T063956
CREATED:20251022T202338Z
LAST-MODIFIED:20260317T175903Z
UID:10015949-1784124000-1784125800@visitcmod.org
SUMMARY:Garden Workshop
DESCRIPTION:Enjoy a Garden Workshop with our Educators!
URL:https://visitcmod.org/events/garden-workshop-16/2026-07-15/
LOCATION:Children’s Museum of Discovery\, 320 North Broadway\, Escondido\, CA\, 92025\, United States
CATEGORIES:Art,STEM / STEAM
ATTACH;FMTTYPE=image/png:https://visitcmod.org/wp-content/uploads/2025/10/garden-workshop-general.png
END:VEVENT
BEGIN:VEVENT
DTSTART;TZID=America/Los_Angeles:20260716T090000
DTEND;TZID=America/Los_Angeles:20260716T143000
DTSTAMP:20260423T063956
CREATED:20260223T204932Z
LAST-MODIFIED:20260223T204932Z
UID:10017477-1784192400-1784212200@visitcmod.org
SUMMARY:Summer Camp
DESCRIPTION:Are you a creative and curious problem solver? Spend the summer exploring with the Children’s Museum of Discovery! Each day of camp includes access to Museum exhibits\, hands-on exploration with trained education staff\, and an opportunity to make new friends. \nExplore engineering\, practice your paleontology skills\, and blast off into outer space with endless opportunities to explore\, imagine\, and experiment. Register now to join us for a summer of FUN! \n  \nLittle Explorers Camp\nAges: 4 – 5 years old\nHours: 9:00 a.m. – 2:30 p.m. \nBig Explorers Camp\nAges: 6 – 8 years old\nHours: 9:00 a.m. – 2:30 p.m. \nRegister Here
URL:https://visitcmod.org/events/summer-camp-4/2026-07-16/
LOCATION:Children’s Museum of Discovery\, 320 North Broadway\, Escondido\, CA\, 92025\, United States
CATEGORIES:Art,Language Arts / Storytime,Science,STEM / STEAM
ATTACH;FMTTYPE=image/png:https://visitcmod.org/wp-content/uploads/2026/02/Summer_Camp_2026_Calendar_Image.png
END:VEVENT
BEGIN:VEVENT
DTSTART;TZID=America/Los_Angeles:20260716T100000
DTEND;TZID=America/Los_Angeles:20260716T103000
DTSTAMP:20260423T063956
CREATED:20260406T175508Z
LAST-MODIFIED:20260406T203107Z
UID:10017974-1784196000-1784197800@visitcmod.org
SUMMARY:Bilingual Tortoise Talk
DESCRIPTION:Enjoy Tortoise Talk in Spanish! \nMeet Sebastian\, the 57 year old North American Desert Tortoise! Guests can get an up close look at Sebastian the tortoise and learn about his different adaptations.
URL:https://visitcmod.org/events/bilingual-tortoise-talk-3/2026-07-16/
LOCATION:Children’s Museum of Discovery\, 320 North Broadway\, Escondido\, CA\, 92025\, United States
CATEGORIES:Science
ATTACH;FMTTYPE=image/jpeg:https://visitcmod.org/wp-content/uploads/2024/07/Sebastian-The-Turtle.jpg
END:VEVENT
BEGIN:VEVENT
DTSTART;TZID=America/Los_Angeles:20260716T100000
DTEND;TZID=America/Los_Angeles:20260716T110000
DTSTAMP:20260423T063956
CREATED:20260310T220110Z
LAST-MODIFIED:20260310T220110Z
UID:10017573-1784196000-1784199600@visitcmod.org
SUMMARY:Music Pop-Up
DESCRIPTION:Enjoy special music pop-up with Music n Me Music Together! Kiddos will sing\, dance\, and make music with our special guests. \nMiss Keila is a working musician and experienced early childhood music educator who has been teaching Music Together® for over 10 years. She loves working with toddlers and families\, bringing music into everyday life through singing\, movement\, and playful musical exploration. \nIn Miss Keila’s sessions\, families sing\, move\, and play together while building basic music skills that support creativity\, speech development\, coordination\, and confidence. Children learn best through joyful interaction\, and caregivers are encouraged to participate right alongside them—making music a shared experience. \nExpect lots of fun\, laughter\, and musical play with bells\, scarves\, shakers\, and of course… the parachute! These interactive demos are designed to spark curiosity\, encourage active learning\, and leave families smiling long after the music ends.
URL:https://visitcmod.org/events/music-pop-up-5/2026-07-16/
LOCATION:Children’s Museum of Discovery\, 320 North Broadway\, Escondido\, CA\, 92025\, United States
CATEGORIES:Art,Movement / Physical Activity,Music
ATTACH;FMTTYPE=image/png:https://visitcmod.org/wp-content/uploads/2024/08/music-pop-up.png
END:VEVENT
BEGIN:VEVENT
DTSTART;TZID=America/Los_Angeles:20260716T110000
DTEND;TZID=America/Los_Angeles:20260716T113000
DTSTAMP:20260423T063956
CREATED:20260123T194618Z
LAST-MODIFIED:20260416T190435Z
UID:10018133-1784199600-1784201400@visitcmod.org
SUMMARY:Bilingual Garden Workshop
DESCRIPTION:Enjoy a Garden Workshop with our Educators in Spanish!
URL:https://visitcmod.org/events/bilingual-garden-workshop-20/2026-07-16/
LOCATION:Children’s Museum of Discovery\, 320 North Broadway\, Escondido\, CA\, 92025\, United States
CATEGORIES:Art,STEM / STEAM
ATTACH;FMTTYPE=image/png:https://visitcmod.org/wp-content/uploads/2025/10/garden-workshop-general.png
END:VEVENT
BEGIN:VEVENT
DTSTART;TZID=America/Los_Angeles:20260716T140000
DTEND;TZID=America/Los_Angeles:20260716T143000
DTSTAMP:20260423T063956
CREATED:20260326T164558Z
LAST-MODIFIED:20260416T190452Z
UID:10018168-1784210400-1784212200@visitcmod.org
SUMMARY:Bilingual Garden Workshop
DESCRIPTION:Enjoy a Garden Workshop with our Educators in Spanish!
URL:https://visitcmod.org/events/bilingual-garden-workshop-21-2/2026-07-16/
LOCATION:Children’s Museum of Discovery\, 320 North Broadway\, Escondido\, CA\, 92025\, United States
CATEGORIES:Art,STEM / STEAM
ATTACH;FMTTYPE=image/png:https://visitcmod.org/wp-content/uploads/2025/10/garden-workshop-general.png
END:VEVENT
END:VCALENDAR