BEGIN:VCALENDAR
VERSION:2.0
PRODID:-//Children&#039;s Museum of Discovery - ECPv6.10.1.1//NONSGML v1.0//EN
CALSCALE:GREGORIAN
METHOD:PUBLISH
X-WR-CALNAME:Children&#039;s Museum of Discovery
X-ORIGINAL-URL:https://visitcmod.org
X-WR-CALDESC:Events for Children&#039;s Museum of Discovery
REFRESH-INTERVAL;VALUE=DURATION:PT1H
X-Robots-Tag:noindex
X-PUBLISHED-TTL:PT1H
BEGIN:VTIMEZONE
TZID:America/Los_Angeles
BEGIN:DAYLIGHT
TZOFFSETFROM:-0800
TZOFFSETTO:-0700
TZNAME:PDT
DTSTART:20260308T100000
END:DAYLIGHT
BEGIN:STANDARD
TZOFFSETFROM:-0700
TZOFFSETTO:-0800
TZNAME:PST
DTSTART:20261101T090000
END:STANDARD
END:VTIMEZONE
BEGIN:VEVENT
DTSTART;TZID=America/Los_Angeles:20260501T100000
DTEND;TZID=America/Los_Angeles:20260501T120000
DTSTAMP:20260421T051152
CREATED:20260107T230854Z
LAST-MODIFIED:20260401T153538Z
UID:10016227-1777629600-1777636800@visitcmod.org
SUMMARY:KPBS Kids Event: Curious George
DESCRIPTION:Enjoy a morning with Curious George! Join us Friday\, May 1 from 10:00 a.m. – 12:00 p.m. for storytime\, crafts\, and a costume character photo opportunity.* \nThis event is free with Museum Admission. \n*Photo opportunity with the costume character is subject to availability and weather permitting. \n  \nThis project is a partnership between KPBS and the San Diego Children’s Discovery Museum\, made possible with funding from the Linden Root Dickinson Foundation. \nCopyright 1957\, 1985 Dr. Seuss Enterprises\, L.P. TM 2010 Dr. Seuss Enterprises\, L.P.\, Portfolio Entertainment Inc and Collingwood O’Hare Productions Ltd. All rights reserved. \nKPBS is a public service of San Diego State University.
URL:https://visitcmod.org/events/kpbs-kids-event-curious-george-2/
LOCATION:Children’s Museum of Discovery\, 320 North Broadway\, Escondido\, CA\, 92025\, United States
CATEGORIES:Art,Language Arts / Storytime
ATTACH;FMTTYPE=image/png:https://visitcmod.org/wp-content/uploads/2024/07/Curious-George.png
END:VEVENT
BEGIN:VEVENT
DTSTART;TZID=America/Los_Angeles:20260620T100000
DTEND;TZID=America/Los_Angeles:20260620T120000
DTSTAMP:20260421T051152
CREATED:20260107T230928Z
LAST-MODIFIED:20260107T230928Z
UID:10016228-1781949600-1781956800@visitcmod.org
SUMMARY:KPBS Kids Event: Clifford
DESCRIPTION:Get ready for an adventure with Clifford the Big Red Dog! Join us Saturday\, June 20 from 10:00 a.m. – 12:00 p.m. for storytime\, crafts\, and a costume character photo opportunity.* \nThis event is free with Museum Admission. \n*Photo opportunity with the costume character is subject to availability and weather permitting. \n  \nThis project is a partnership between KPBS and the San Diego Children’s Discovery Museum\, made possible with funding from the Linden Root Dickinson Foundation. \nCopyright 1957\, 1985 Dr. Seuss Enterprises\, L.P. TM 2010 Dr. Seuss Enterprises\, L.P.\, Portfolio Entertainment Inc and Collingwood O’Hare Productions Ltd. All rights reserved. \nKPBS is a public service of San Diego State University.
URL:https://visitcmod.org/events/kpbs-kids-event-clifford-2/
LOCATION:Children’s Museum of Discovery\, 320 North Broadway\, Escondido\, CA\, 92025\, United States
CATEGORIES:Art,Language Arts / Storytime
ATTACH;FMTTYPE=image/png:https://visitcmod.org/wp-content/uploads/2024/10/Clifford.png
END:VEVENT
BEGIN:VEVENT
DTSTART;TZID=America/Los_Angeles:20261023T100000
DTEND;TZID=America/Los_Angeles:20261023T120000
DTSTAMP:20260421T051152
CREATED:20260107T231004Z
LAST-MODIFIED:20260107T231004Z
UID:10016229-1792749600-1792756800@visitcmod.org
SUMMARY:KPBS Kids Event: Elinor Wonders Why
DESCRIPTION:Follow your curiosity and ask questions with Elinor from Elinor Wonders Why! Join us Friday\, October 23 from 10:00 a.m. – 12:00 p.m. for storytime\, crafts\, and a costume character photo opportunity.* \nThis event is free with Museum Admission. \n*Photo opportunity with the costume character is subject to availability and weather permitting. \n  \nThis project is a partnership between KPBS and the San Diego Children’s Discovery Museum\, made possible with funding from the Linden Root Dickinson Foundation. \nCopyright 1957\, 1985 Dr. Seuss Enterprises\, L.P. TM 2010 Dr. Seuss Enterprises\, L.P.\, Portfolio Entertainment Inc and Collingwood O’Hare Productions Ltd. All rights reserved. \nKPBS is a public service of San Diego State University.
URL:https://visitcmod.org/events/kpbs-kids-event-elinor-wonders-why-2/
LOCATION:Children’s Museum of Discovery\, 320 North Broadway\, Escondido\, CA\, 92025\, United States
CATEGORIES:Art,Language Arts / Storytime
ATTACH;FMTTYPE=image/png:https://visitcmod.org/wp-content/uploads/2024/10/elinor-wonders-why.png
END:VEVENT
BEGIN:VEVENT
DTSTART;TZID=America/Los_Angeles:20261106T100000
DTEND;TZID=America/Los_Angeles:20261106T120000
DTSTAMP:20260421T051152
CREATED:20260107T231035Z
LAST-MODIFIED:20260107T231035Z
UID:10016230-1793959200-1793966400@visitcmod.org
SUMMARY:KPBS Kids Event: Molly of Denali
DESCRIPTION:Get ready to sled into fun with Molly of Denali! Practice social skills and learn about different cultures through craft activities and storytime. Join us Friday\, November 6 from 10:00 a.m. – 12:00 p.m. for storytime\, crafts\, and a costume character photo opportunity.* \nThis event is free with Museum Admission. \n*Photo opportunity with the costume character is subject to availability and weather permitting. \n  \nThis project is a partnership between KPBS and the San Diego Children’s Discovery Museum\, made possible with funding from the Linden Root Dickinson Foundation. \nCopyright 1957\, 1985 Dr. Seuss Enterprises\, L.P. TM 2010 Dr. Seuss Enterprises\, L.P.\, Portfolio Entertainment Inc and Collingwood O’Hare Productions Ltd. All rights reserved. \nKPBS is a public service of San Diego State University.
URL:https://visitcmod.org/events/kpbs-kids-event-molly-of-denali-3/
LOCATION:Children’s Museum of Discovery\, 320 North Broadway\, Escondido\, CA\, 92025\, United States
CATEGORIES:Art,Language Arts / Storytime
ATTACH;FMTTYPE=image/jpeg:https://visitcmod.org/wp-content/uploads/2024/10/KPBS-Kids-Nov7-1200x800-1.jpg
END:VEVENT
END:VCALENDAR