BEGIN:VCALENDAR
VERSION:2.0
PRODID:-//Children&#039;s Museum of Discovery - ECPv6.10.1.1//NONSGML v1.0//EN
CALSCALE:GREGORIAN
METHOD:PUBLISH
X-ORIGINAL-URL:https://visitcmod.org
X-WR-CALDESC:Events for Children&#039;s Museum of Discovery
REFRESH-INTERVAL;VALUE=DURATION:PT1H
X-Robots-Tag:noindex
X-PUBLISHED-TTL:PT1H
BEGIN:VTIMEZONE
TZID:America/Los_Angeles
BEGIN:DAYLIGHT
TZOFFSETFROM:-0800
TZOFFSETTO:-0700
TZNAME:PDT
DTSTART:20260308T100000
END:DAYLIGHT
BEGIN:STANDARD
TZOFFSETFROM:-0700
TZOFFSETTO:-0800
TZNAME:PST
DTSTART:20261101T090000
END:STANDARD
END:VTIMEZONE
BEGIN:VEVENT
DTSTART;TZID=America/Los_Angeles:20260804T090000
DTEND;TZID=America/Los_Angeles:20260804T143000
DTSTAMP:20260421T101310
CREATED:20260223T204932Z
LAST-MODIFIED:20260223T204932Z
UID:10017490-1785834000-1785853800@visitcmod.org
SUMMARY:Summer Camp
DESCRIPTION:Are you a creative and curious problem solver? Spend the summer exploring with the Children’s Museum of Discovery! Each day of camp includes access to Museum exhibits\, hands-on exploration with trained education staff\, and an opportunity to make new friends. \nExplore engineering\, practice your paleontology skills\, and blast off into outer space with endless opportunities to explore\, imagine\, and experiment. Register now to join us for a summer of FUN! \n  \nLittle Explorers Camp\nAges: 4 – 5 years old\nHours: 9:00 a.m. – 2:30 p.m. \nBig Explorers Camp\nAges: 6 – 8 years old\nHours: 9:00 a.m. – 2:30 p.m. \nRegister Here
URL:https://visitcmod.org/events/summer-camp-4/2026-08-04/
LOCATION:Children’s Museum of Discovery\, 320 North Broadway\, Escondido\, CA\, 92025\, United States
CATEGORIES:Art,Language Arts / Storytime,Science,STEM / STEAM
ATTACH;FMTTYPE=image/png:https://visitcmod.org/wp-content/uploads/2026/02/Summer_Camp_2026_Calendar_Image.png
END:VEVENT
BEGIN:VEVENT
DTSTART;TZID=America/Los_Angeles:20260805T090000
DTEND;TZID=America/Los_Angeles:20260805T143000
DTSTAMP:20260421T101310
CREATED:20260223T204932Z
LAST-MODIFIED:20260223T204932Z
UID:10017491-1785920400-1785940200@visitcmod.org
SUMMARY:Summer Camp
DESCRIPTION:Are you a creative and curious problem solver? Spend the summer exploring with the Children’s Museum of Discovery! Each day of camp includes access to Museum exhibits\, hands-on exploration with trained education staff\, and an opportunity to make new friends. \nExplore engineering\, practice your paleontology skills\, and blast off into outer space with endless opportunities to explore\, imagine\, and experiment. Register now to join us for a summer of FUN! \n  \nLittle Explorers Camp\nAges: 4 – 5 years old\nHours: 9:00 a.m. – 2:30 p.m. \nBig Explorers Camp\nAges: 6 – 8 years old\nHours: 9:00 a.m. – 2:30 p.m. \nRegister Here
URL:https://visitcmod.org/events/summer-camp-4/2026-08-05/
LOCATION:Children’s Museum of Discovery\, 320 North Broadway\, Escondido\, CA\, 92025\, United States
CATEGORIES:Art,Language Arts / Storytime,Science,STEM / STEAM
ATTACH;FMTTYPE=image/png:https://visitcmod.org/wp-content/uploads/2026/02/Summer_Camp_2026_Calendar_Image.png
END:VEVENT
BEGIN:VEVENT
DTSTART;TZID=America/Los_Angeles:20260806T090000
DTEND;TZID=America/Los_Angeles:20260806T143000
DTSTAMP:20260421T101310
CREATED:20260223T204932Z
LAST-MODIFIED:20260223T204932Z
UID:10017492-1786006800-1786026600@visitcmod.org
SUMMARY:Summer Camp
DESCRIPTION:Are you a creative and curious problem solver? Spend the summer exploring with the Children’s Museum of Discovery! Each day of camp includes access to Museum exhibits\, hands-on exploration with trained education staff\, and an opportunity to make new friends. \nExplore engineering\, practice your paleontology skills\, and blast off into outer space with endless opportunities to explore\, imagine\, and experiment. Register now to join us for a summer of FUN! \n  \nLittle Explorers Camp\nAges: 4 – 5 years old\nHours: 9:00 a.m. – 2:30 p.m. \nBig Explorers Camp\nAges: 6 – 8 years old\nHours: 9:00 a.m. – 2:30 p.m. \nRegister Here
URL:https://visitcmod.org/events/summer-camp-4/2026-08-06/
LOCATION:Children’s Museum of Discovery\, 320 North Broadway\, Escondido\, CA\, 92025\, United States
CATEGORIES:Art,Language Arts / Storytime,Science,STEM / STEAM
ATTACH;FMTTYPE=image/png:https://visitcmod.org/wp-content/uploads/2026/02/Summer_Camp_2026_Calendar_Image.png
END:VEVENT
BEGIN:VEVENT
DTSTART;TZID=America/Los_Angeles:20260807T090000
DTEND;TZID=America/Los_Angeles:20260807T143000
DTSTAMP:20260421T101310
CREATED:20260223T204932Z
LAST-MODIFIED:20260223T204932Z
UID:10017493-1786093200-1786113000@visitcmod.org
SUMMARY:Summer Camp
DESCRIPTION:Are you a creative and curious problem solver? Spend the summer exploring with the Children’s Museum of Discovery! Each day of camp includes access to Museum exhibits\, hands-on exploration with trained education staff\, and an opportunity to make new friends. \nExplore engineering\, practice your paleontology skills\, and blast off into outer space with endless opportunities to explore\, imagine\, and experiment. Register now to join us for a summer of FUN! \n  \nLittle Explorers Camp\nAges: 4 – 5 years old\nHours: 9:00 a.m. – 2:30 p.m. \nBig Explorers Camp\nAges: 6 – 8 years old\nHours: 9:00 a.m. – 2:30 p.m. \nRegister Here
URL:https://visitcmod.org/events/summer-camp-4/2026-08-07/
LOCATION:Children’s Museum of Discovery\, 320 North Broadway\, Escondido\, CA\, 92025\, United States
CATEGORIES:Art,Language Arts / Storytime,Science,STEM / STEAM
ATTACH;FMTTYPE=image/png:https://visitcmod.org/wp-content/uploads/2026/02/Summer_Camp_2026_Calendar_Image.png
END:VEVENT
BEGIN:VEVENT
DTSTART;TZID=America/Los_Angeles:20260810T090000
DTEND;TZID=America/Los_Angeles:20260810T143000
DTSTAMP:20260421T101310
CREATED:20260223T204932Z
LAST-MODIFIED:20260223T204932Z
UID:10017494-1786352400-1786372200@visitcmod.org
SUMMARY:Summer Camp
DESCRIPTION:Are you a creative and curious problem solver? Spend the summer exploring with the Children’s Museum of Discovery! Each day of camp includes access to Museum exhibits\, hands-on exploration with trained education staff\, and an opportunity to make new friends. \nExplore engineering\, practice your paleontology skills\, and blast off into outer space with endless opportunities to explore\, imagine\, and experiment. Register now to join us for a summer of FUN! \n  \nLittle Explorers Camp\nAges: 4 – 5 years old\nHours: 9:00 a.m. – 2:30 p.m. \nBig Explorers Camp\nAges: 6 – 8 years old\nHours: 9:00 a.m. – 2:30 p.m. \nRegister Here
URL:https://visitcmod.org/events/summer-camp-4/2026-08-10/
LOCATION:Children’s Museum of Discovery\, 320 North Broadway\, Escondido\, CA\, 92025\, United States
CATEGORIES:Art,Language Arts / Storytime,Science,STEM / STEAM
ATTACH;FMTTYPE=image/png:https://visitcmod.org/wp-content/uploads/2026/02/Summer_Camp_2026_Calendar_Image.png
END:VEVENT
BEGIN:VEVENT
DTSTART;TZID=America/Los_Angeles:20260811T090000
DTEND;TZID=America/Los_Angeles:20260811T143000
DTSTAMP:20260421T101310
CREATED:20260223T204932Z
LAST-MODIFIED:20260223T204932Z
UID:10017495-1786438800-1786458600@visitcmod.org
SUMMARY:Summer Camp
DESCRIPTION:Are you a creative and curious problem solver? Spend the summer exploring with the Children’s Museum of Discovery! Each day of camp includes access to Museum exhibits\, hands-on exploration with trained education staff\, and an opportunity to make new friends. \nExplore engineering\, practice your paleontology skills\, and blast off into outer space with endless opportunities to explore\, imagine\, and experiment. Register now to join us for a summer of FUN! \n  \nLittle Explorers Camp\nAges: 4 – 5 years old\nHours: 9:00 a.m. – 2:30 p.m. \nBig Explorers Camp\nAges: 6 – 8 years old\nHours: 9:00 a.m. – 2:30 p.m. \nRegister Here
URL:https://visitcmod.org/events/summer-camp-4/2026-08-11/
LOCATION:Children’s Museum of Discovery\, 320 North Broadway\, Escondido\, CA\, 92025\, United States
CATEGORIES:Art,Language Arts / Storytime,Science,STEM / STEAM
ATTACH;FMTTYPE=image/png:https://visitcmod.org/wp-content/uploads/2026/02/Summer_Camp_2026_Calendar_Image.png
END:VEVENT
BEGIN:VEVENT
DTSTART;TZID=America/Los_Angeles:20260812T090000
DTEND;TZID=America/Los_Angeles:20260812T143000
DTSTAMP:20260421T101310
CREATED:20260223T204932Z
LAST-MODIFIED:20260223T204932Z
UID:10017496-1786525200-1786545000@visitcmod.org
SUMMARY:Summer Camp
DESCRIPTION:Are you a creative and curious problem solver? Spend the summer exploring with the Children’s Museum of Discovery! Each day of camp includes access to Museum exhibits\, hands-on exploration with trained education staff\, and an opportunity to make new friends. \nExplore engineering\, practice your paleontology skills\, and blast off into outer space with endless opportunities to explore\, imagine\, and experiment. Register now to join us for a summer of FUN! \n  \nLittle Explorers Camp\nAges: 4 – 5 years old\nHours: 9:00 a.m. – 2:30 p.m. \nBig Explorers Camp\nAges: 6 – 8 years old\nHours: 9:00 a.m. – 2:30 p.m. \nRegister Here
URL:https://visitcmod.org/events/summer-camp-4/2026-08-12/
LOCATION:Children’s Museum of Discovery\, 320 North Broadway\, Escondido\, CA\, 92025\, United States
CATEGORIES:Art,Language Arts / Storytime,Science,STEM / STEAM
ATTACH;FMTTYPE=image/png:https://visitcmod.org/wp-content/uploads/2026/02/Summer_Camp_2026_Calendar_Image.png
END:VEVENT
BEGIN:VEVENT
DTSTART;TZID=America/Los_Angeles:20260813T090000
DTEND;TZID=America/Los_Angeles:20260813T143000
DTSTAMP:20260421T101310
CREATED:20260223T204932Z
LAST-MODIFIED:20260223T204932Z
UID:10017497-1786611600-1786631400@visitcmod.org
SUMMARY:Summer Camp
DESCRIPTION:Are you a creative and curious problem solver? Spend the summer exploring with the Children’s Museum of Discovery! Each day of camp includes access to Museum exhibits\, hands-on exploration with trained education staff\, and an opportunity to make new friends. \nExplore engineering\, practice your paleontology skills\, and blast off into outer space with endless opportunities to explore\, imagine\, and experiment. Register now to join us for a summer of FUN! \n  \nLittle Explorers Camp\nAges: 4 – 5 years old\nHours: 9:00 a.m. – 2:30 p.m. \nBig Explorers Camp\nAges: 6 – 8 years old\nHours: 9:00 a.m. – 2:30 p.m. \nRegister Here
URL:https://visitcmod.org/events/summer-camp-4/2026-08-13/
LOCATION:Children’s Museum of Discovery\, 320 North Broadway\, Escondido\, CA\, 92025\, United States
CATEGORIES:Art,Language Arts / Storytime,Science,STEM / STEAM
ATTACH;FMTTYPE=image/png:https://visitcmod.org/wp-content/uploads/2026/02/Summer_Camp_2026_Calendar_Image.png
END:VEVENT
BEGIN:VEVENT
DTSTART;TZID=America/Los_Angeles:20260814T090000
DTEND;TZID=America/Los_Angeles:20260814T143000
DTSTAMP:20260421T101310
CREATED:20260223T204932Z
LAST-MODIFIED:20260223T204932Z
UID:10017498-1786698000-1786717800@visitcmod.org
SUMMARY:Summer Camp
DESCRIPTION:Are you a creative and curious problem solver? Spend the summer exploring with the Children’s Museum of Discovery! Each day of camp includes access to Museum exhibits\, hands-on exploration with trained education staff\, and an opportunity to make new friends. \nExplore engineering\, practice your paleontology skills\, and blast off into outer space with endless opportunities to explore\, imagine\, and experiment. Register now to join us for a summer of FUN! \n  \nLittle Explorers Camp\nAges: 4 – 5 years old\nHours: 9:00 a.m. – 2:30 p.m. \nBig Explorers Camp\nAges: 6 – 8 years old\nHours: 9:00 a.m. – 2:30 p.m. \nRegister Here
URL:https://visitcmod.org/events/summer-camp-4/2026-08-14/
LOCATION:Children’s Museum of Discovery\, 320 North Broadway\, Escondido\, CA\, 92025\, United States
CATEGORIES:Art,Language Arts / Storytime,Science,STEM / STEAM
ATTACH;FMTTYPE=image/png:https://visitcmod.org/wp-content/uploads/2026/02/Summer_Camp_2026_Calendar_Image.png
END:VEVENT
END:VCALENDAR