BEGIN:VCALENDAR
VERSION:2.0
PRODID:-//Children&#039;s Museum of Discovery - ECPv6.10.1.1//NONSGML v1.0//EN
CALSCALE:GREGORIAN
METHOD:PUBLISH
X-WR-CALNAME:Children&#039;s Museum of Discovery
X-ORIGINAL-URL:https://visitcmod.org
X-WR-CALDESC:Events for Children&#039;s Museum of Discovery
REFRESH-INTERVAL;VALUE=DURATION:PT1H
X-Robots-Tag:noindex
X-PUBLISHED-TTL:PT1H
BEGIN:VTIMEZONE
TZID:America/Los_Angeles
BEGIN:DAYLIGHT
TZOFFSETFROM:-0800
TZOFFSETTO:-0700
TZNAME:PDT
DTSTART:20260308T100000
END:DAYLIGHT
BEGIN:STANDARD
TZOFFSETFROM:-0700
TZOFFSETTO:-0800
TZNAME:PST
DTSTART:20261101T090000
END:STANDARD
END:VTIMEZONE
BEGIN:VEVENT
DTSTART;VALUE=DATE:20260510
DTEND;VALUE=DATE:20260511
DTSTAMP:20260423T100627
CREATED:20260413T191600Z
LAST-MODIFIED:20260413T191600Z
UID:10018023-1778371200-1778457599@visitcmod.org
SUMMARY:Big Exchange
DESCRIPTION:Did you know that our members get access to San Diego Museum Council’s Big Exchange? From May 1 to 18\, the Big Exchange gives Children’s Museum of Discovery members reciprocal admission to more than 50 museums\, historic sites\, gardens\, and other organizations throughout San Diego County. Showing your current membership card is all it takes to get free entry to any of the participating organizations. \n*Note: This excludes special events and cannot be combined with any other offers. \nView the list of participating museums here!
URL:https://visitcmod.org/events/big-exchange-3/2026-05-10/
LOCATION:Children’s Museum of Discovery\, 320 North Broadway\, Escondido\, CA\, 92025\, United States
ATTACH;FMTTYPE=image/png:https://visitcmod.org/wp-content/uploads/2026/04/big-exchange-cal-image-26.png
END:VEVENT
BEGIN:VEVENT
DTSTART;TZID=America/Los_Angeles:20260510T090000
DTEND;TZID=America/Los_Angeles:20260510T103000
DTSTAMP:20260423T100627
CREATED:20251216T183900Z
LAST-MODIFIED:20251216T183900Z
UID:10015532-1778403600-1778409000@visitcmod.org
SUMMARY:Sensory Friendly Mornings
DESCRIPTION:Join us every Sunday from 9:00 a.m. – 10:30 a.m. for early mornings geared for families with children on the spectrum or with sensory sensitivities: \n\nJoin a welcoming\, comfortable environment\nEnjoy the Museum in a quiet and accepting setting\nMake connections and share resources with other families\n\nFree with Museum admission.
URL:https://visitcmod.org/events/sensory-friendly-mornings-2/2026-05-10/
LOCATION:Children’s Museum of Discovery\, 320 North Broadway\, Escondido\, CA\, 92025\, United States
CATEGORIES:Art,Language Arts / Storytime
ATTACH;FMTTYPE=image/jpeg:https://visitcmod.org/wp-content/uploads/2024/07/Sensory-Accomodations-New-scaled.jpg
END:VEVENT
BEGIN:VEVENT
DTSTART;TZID=America/Los_Angeles:20260510T100000
DTEND;TZID=America/Los_Angeles:20260510T103000
DTSTAMP:20260423T100627
CREATED:20260406T175419Z
LAST-MODIFIED:20260417T183201Z
UID:10017818-1778407200-1778409000@visitcmod.org
SUMMARY:Tortoise Talk
DESCRIPTION:Meet Sebastian\, the 57 year old North American Desert Tortoise! Guests can get an up close look at Sebastian the tortoise and learn about his different adaptations.
URL:https://visitcmod.org/events/tortoise-talk-4/2026-05-10/
LOCATION:Children’s Museum of Discovery\, 320 North Broadway\, Escondido\, CA\, 92025\, United States
CATEGORIES:Science
ATTACH;FMTTYPE=image/jpeg:https://visitcmod.org/wp-content/uploads/2024/07/Sebastian-The-Turtle.jpg
END:VEVENT
BEGIN:VEVENT
DTSTART;TZID=America/Los_Angeles:20260510T110000
DTEND;TZID=America/Los_Angeles:20260510T113000
DTSTAMP:20260423T100627
CREATED:20251022T202247Z
LAST-MODIFIED:20260417T183233Z
UID:10015704-1778410800-1778412600@visitcmod.org
SUMMARY:Garden Workshop
DESCRIPTION:Enjoy a Garden Workshop with our Educators!
URL:https://visitcmod.org/events/garden-workshop-15/2026-05-10/
LOCATION:Children’s Museum of Discovery\, 320 North Broadway\, Escondido\, CA\, 92025\, United States
CATEGORIES:Art,STEM / STEAM
ATTACH;FMTTYPE=image/png:https://visitcmod.org/wp-content/uploads/2025/10/garden-workshop-general.png
END:VEVENT
BEGIN:VEVENT
DTSTART;TZID=America/Los_Angeles:20260510T120000
DTEND;TZID=America/Los_Angeles:20260510T130000
DTSTAMP:20260423T100627
CREATED:20260416T185040Z
LAST-MODIFIED:20260417T183308Z
UID:10018048-1778414400-1778418000@visitcmod.org
SUMMARY:Family Workshop
DESCRIPTION:Baby Bird Craft\n \nExplore traits that families share\, including features like how we look\, smile\, laugh\, and what we like to do
URL:https://visitcmod.org/events/family-workshop-94/2026-05-10/
LOCATION:Children’s Museum of Discovery\, 320 North Broadway\, Escondido\, CA\, 92025\, United States
CATEGORIES:Art,STEM / STEAM
ATTACH;FMTTYPE=image/jpeg:https://visitcmod.org/wp-content/uploads/2026/04/IMG_3674_square.jpg
END:VEVENT
BEGIN:VEVENT
DTSTART;TZID=America/Los_Angeles:20260510T140000
DTEND;TZID=America/Los_Angeles:20260510T143000
DTSTAMP:20260423T100627
CREATED:20251022T202338Z
LAST-MODIFIED:20260317T175903Z
UID:10015912-1778421600-1778423400@visitcmod.org
SUMMARY:Garden Workshop
DESCRIPTION:Enjoy a Garden Workshop with our Educators!
URL:https://visitcmod.org/events/garden-workshop-16/2026-05-10/
LOCATION:Children’s Museum of Discovery\, 320 North Broadway\, Escondido\, CA\, 92025\, United States
CATEGORIES:Art,STEM / STEAM
ATTACH;FMTTYPE=image/png:https://visitcmod.org/wp-content/uploads/2025/10/garden-workshop-general.png
END:VEVENT
BEGIN:VEVENT
DTSTART;TZID=America/Los_Angeles:20260510T150000
DTEND;TZID=America/Los_Angeles:20260510T160000
DTSTAMP:20260423T100627
CREATED:20260416T185158Z
LAST-MODIFIED:20260416T185158Z
UID:10018067-1778425200-1778428800@visitcmod.org
SUMMARY:Family Workshop
DESCRIPTION:Baby Bird Craft\n \nExplore traits that families share\, including features like how we look\, smile\, laugh\, and what we like to do
URL:https://visitcmod.org/events/family-workshop-95/2026-05-10/
LOCATION:Children’s Museum of Discovery\, 320 North Broadway\, Escondido\, CA\, 92025\, United States
CATEGORIES:Art,STEM / STEAM
ATTACH;FMTTYPE=image/jpeg:https://visitcmod.org/wp-content/uploads/2026/04/IMG_3674_square.jpg
END:VEVENT
BEGIN:VEVENT
DTSTART;VALUE=DATE:20260511
DTEND;VALUE=DATE:20260512
DTSTAMP:20260423T100627
CREATED:20260413T191600Z
LAST-MODIFIED:20260413T191600Z
UID:10018024-1778457600-1778543999@visitcmod.org
SUMMARY:Big Exchange
DESCRIPTION:Did you know that our members get access to San Diego Museum Council’s Big Exchange? From May 1 to 18\, the Big Exchange gives Children’s Museum of Discovery members reciprocal admission to more than 50 museums\, historic sites\, gardens\, and other organizations throughout San Diego County. Showing your current membership card is all it takes to get free entry to any of the participating organizations. \n*Note: This excludes special events and cannot be combined with any other offers. \nView the list of participating museums here!
URL:https://visitcmod.org/events/big-exchange-3/2026-05-11/
LOCATION:Children’s Museum of Discovery\, 320 North Broadway\, Escondido\, CA\, 92025\, United States
ATTACH;FMTTYPE=image/png:https://visitcmod.org/wp-content/uploads/2026/04/big-exchange-cal-image-26.png
END:VEVENT
BEGIN:VEVENT
DTSTART;TZID=America/Los_Angeles:20260511T093000
DTEND;TZID=America/Los_Angeles:20260511T163000
DTSTAMP:20260423T100627
CREATED:20240713T212826Z
LAST-MODIFIED:20250117T185259Z
UID:10010956-1778491800-1778517000@visitcmod.org
SUMMARY:Museum Closed
DESCRIPTION:The Museum is closed.
URL:https://visitcmod.org/events/museum-closed/2026-05-11/
LOCATION:Children’s Museum of Discovery\, 320 North Broadway\, Escondido\, CA\, 92025\, United States
CATEGORIES:Art,Culture,Dinosaurs / Paleontology,Language Arts / Storytime,Messy Play,Movement / Physical Activity,Music,Science,STEM / STEAM,Theater / Performance
ATTACH;FMTTYPE=image/jpeg:https://visitcmod.org/wp-content/uploads/2024/07/Museum-Closed-scaled.jpg
END:VEVENT
BEGIN:VEVENT
DTSTART;VALUE=DATE:20260512
DTEND;VALUE=DATE:20260513
DTSTAMP:20260423T100627
CREATED:20260413T191600Z
LAST-MODIFIED:20260413T191600Z
UID:10018025-1778544000-1778630399@visitcmod.org
SUMMARY:Big Exchange
DESCRIPTION:Did you know that our members get access to San Diego Museum Council’s Big Exchange? From May 1 to 18\, the Big Exchange gives Children’s Museum of Discovery members reciprocal admission to more than 50 museums\, historic sites\, gardens\, and other organizations throughout San Diego County. Showing your current membership card is all it takes to get free entry to any of the participating organizations. \n*Note: This excludes special events and cannot be combined with any other offers. \nView the list of participating museums here!
URL:https://visitcmod.org/events/big-exchange-3/2026-05-12/
LOCATION:Children’s Museum of Discovery\, 320 North Broadway\, Escondido\, CA\, 92025\, United States
ATTACH;FMTTYPE=image/png:https://visitcmod.org/wp-content/uploads/2026/04/big-exchange-cal-image-26.png
END:VEVENT
BEGIN:VEVENT
DTSTART;TZID=America/Los_Angeles:20260512T083000
DTEND;TZID=America/Los_Angeles:20260512T093000
DTSTAMP:20260423T100627
CREATED:20251216T183744Z
LAST-MODIFIED:20251216T183744Z
UID:10015452-1778574600-1778578200@visitcmod.org
SUMMARY:Member's Only Hours
DESCRIPTION:Join us every Tuesday from 8:30 a.m. – 9:30 a.m. for our Member’s Only Hours.
URL:https://visitcmod.org/events/members-only-hours-2/2026-05-12/
LOCATION:Children’s Museum of Discovery\, 320 North Broadway\, Escondido\, CA\, 92025\, United States
CATEGORIES:Art,STEM / STEAM
ATTACH;FMTTYPE=image/jpeg:https://visitcmod.org/wp-content/uploads/2024/07/Light-Table.jpg
END:VEVENT
BEGIN:VEVENT
DTSTART;TZID=America/Los_Angeles:20260512T100000
DTEND;TZID=America/Los_Angeles:20260512T103000
DTSTAMP:20260423T100627
CREATED:20251216T181713Z
LAST-MODIFIED:20251216T181713Z
UID:10015377-1778580000-1778581800@visitcmod.org
SUMMARY:Baby Storytime
DESCRIPTION:Enjoy a fun\, engaging storytime led by the Escondido Public Library and connect with local community resource partners\, including WestPac Wealth Partners and Gently Hugged\, plus a rotating guest partner each month. \nBaby Storytime is generously supported by WestPac Wealth Partners and the Escondido Public Library.
URL:https://visitcmod.org/events/baby-storytime-3/2026-05-12/
LOCATION:Toddler Tidepool\, 320 North Broadway\, Escondido\, CA\, 92025\, United States
CATEGORIES:Featured,Language Arts / Storytime
ATTACH;FMTTYPE=image/jpeg:https://visitcmod.org/wp-content/uploads/2024/07/SDCDM5.2024-13-scaled.jpg
END:VEVENT
BEGIN:VEVENT
DTSTART;TZID=America/Los_Angeles:20260512T100000
DTEND;TZID=America/Los_Angeles:20260512T103000
DTSTAMP:20260423T100627
CREATED:20260406T175419Z
LAST-MODIFIED:20260417T183201Z
UID:10017819-1778580000-1778581800@visitcmod.org
SUMMARY:Tortoise Talk
DESCRIPTION:Meet Sebastian\, the 57 year old North American Desert Tortoise! Guests can get an up close look at Sebastian the tortoise and learn about his different adaptations.
URL:https://visitcmod.org/events/tortoise-talk-4/2026-05-12/
LOCATION:Children’s Museum of Discovery\, 320 North Broadway\, Escondido\, CA\, 92025\, United States
CATEGORIES:Science
ATTACH;FMTTYPE=image/jpeg:https://visitcmod.org/wp-content/uploads/2024/07/Sebastian-The-Turtle.jpg
END:VEVENT
BEGIN:VEVENT
DTSTART;TZID=America/Los_Angeles:20260512T110000
DTEND;TZID=America/Los_Angeles:20260512T113000
DTSTAMP:20260423T100627
CREATED:20251022T202247Z
LAST-MODIFIED:20260417T183233Z
UID:10016552-1778583600-1778585400@visitcmod.org
SUMMARY:Garden Workshop
DESCRIPTION:Enjoy a Garden Workshop with our Educators!
URL:https://visitcmod.org/events/garden-workshop-15/2026-05-12/
LOCATION:Children’s Museum of Discovery\, 320 North Broadway\, Escondido\, CA\, 92025\, United States
CATEGORIES:Art,STEM / STEAM
ATTACH;FMTTYPE=image/png:https://visitcmod.org/wp-content/uploads/2025/10/garden-workshop-general.png
END:VEVENT
BEGIN:VEVENT
DTSTART;TZID=America/Los_Angeles:20260512T120000
DTEND;TZID=America/Los_Angeles:20260512T130000
DTSTAMP:20260423T100627
CREATED:20260416T190015Z
LAST-MODIFIED:20260416T190015Z
UID:10018085-1778587200-1778590800@visitcmod.org
SUMMARY:Family Workshop
DESCRIPTION:Color and paint the amazing fish who can light their own way using bioluminescence.
URL:https://visitcmod.org/events/family-workshop-96/2026-05-12/
LOCATION:Children’s Museum of Discovery\, 320 North Broadway\, Escondido\, CA\, 92025\, United States
CATEGORIES:Art,STEM / STEAM
ATTACH;FMTTYPE=image/jpeg:https://visitcmod.org/wp-content/uploads/2026/04/IMG_3679_square.jpg
END:VEVENT
BEGIN:VEVENT
DTSTART;TZID=America/Los_Angeles:20260512T140000
DTEND;TZID=America/Los_Angeles:20260512T143000
DTSTAMP:20260423T100627
CREATED:20251022T202338Z
LAST-MODIFIED:20260317T175903Z
UID:10016613-1778594400-1778596200@visitcmod.org
SUMMARY:Garden Workshop
DESCRIPTION:Enjoy a Garden Workshop with our Educators!
URL:https://visitcmod.org/events/garden-workshop-16/2026-05-12/
LOCATION:Children’s Museum of Discovery\, 320 North Broadway\, Escondido\, CA\, 92025\, United States
CATEGORIES:Art,STEM / STEAM
ATTACH;FMTTYPE=image/png:https://visitcmod.org/wp-content/uploads/2025/10/garden-workshop-general.png
END:VEVENT
BEGIN:VEVENT
DTSTART;TZID=America/Los_Angeles:20260512T150000
DTEND;TZID=America/Los_Angeles:20260512T160000
DTSTAMP:20260423T100627
CREATED:20260416T190057Z
LAST-MODIFIED:20260416T190057Z
UID:10018105-1778598000-1778601600@visitcmod.org
SUMMARY:Family Workshop
DESCRIPTION:Color and paint the amazing fish who can light their own way using bioluminescence.
URL:https://visitcmod.org/events/family-workshop-97/2026-05-12/
LOCATION:Children’s Museum of Discovery\, 320 North Broadway\, Escondido\, CA\, 92025\, United States
CATEGORIES:Art,STEM / STEAM
ATTACH;FMTTYPE=image/jpeg:https://visitcmod.org/wp-content/uploads/2026/04/IMG_3679_square.jpg
END:VEVENT
BEGIN:VEVENT
DTSTART;VALUE=DATE:20260513
DTEND;VALUE=DATE:20260514
DTSTAMP:20260423T100627
CREATED:20260413T191600Z
LAST-MODIFIED:20260413T191600Z
UID:10018026-1778630400-1778716799@visitcmod.org
SUMMARY:Big Exchange
DESCRIPTION:Did you know that our members get access to San Diego Museum Council’s Big Exchange? From May 1 to 18\, the Big Exchange gives Children’s Museum of Discovery members reciprocal admission to more than 50 museums\, historic sites\, gardens\, and other organizations throughout San Diego County. Showing your current membership card is all it takes to get free entry to any of the participating organizations. \n*Note: This excludes special events and cannot be combined with any other offers. \nView the list of participating museums here!
URL:https://visitcmod.org/events/big-exchange-3/2026-05-13/
LOCATION:Children’s Museum of Discovery\, 320 North Broadway\, Escondido\, CA\, 92025\, United States
ATTACH;FMTTYPE=image/png:https://visitcmod.org/wp-content/uploads/2026/04/big-exchange-cal-image-26.png
END:VEVENT
BEGIN:VEVENT
DTSTART;TZID=America/Los_Angeles:20260513T100000
DTEND;TZID=America/Los_Angeles:20260513T103000
DTSTAMP:20260423T100627
CREATED:20260406T175419Z
LAST-MODIFIED:20260417T183201Z
UID:10017820-1778666400-1778668200@visitcmod.org
SUMMARY:Tortoise Talk
DESCRIPTION:Meet Sebastian\, the 57 year old North American Desert Tortoise! Guests can get an up close look at Sebastian the tortoise and learn about his different adaptations.
URL:https://visitcmod.org/events/tortoise-talk-4/2026-05-13/
LOCATION:Children’s Museum of Discovery\, 320 North Broadway\, Escondido\, CA\, 92025\, United States
CATEGORIES:Science
ATTACH;FMTTYPE=image/jpeg:https://visitcmod.org/wp-content/uploads/2024/07/Sebastian-The-Turtle.jpg
END:VEVENT
BEGIN:VEVENT
DTSTART;TZID=America/Los_Angeles:20260513T110000
DTEND;TZID=America/Los_Angeles:20260513T113000
DTSTAMP:20260423T100627
CREATED:20251022T202247Z
LAST-MODIFIED:20260417T183233Z
UID:10015705-1778670000-1778671800@visitcmod.org
SUMMARY:Garden Workshop
DESCRIPTION:Enjoy a Garden Workshop with our Educators!
URL:https://visitcmod.org/events/garden-workshop-15/2026-05-13/
LOCATION:Children’s Museum of Discovery\, 320 North Broadway\, Escondido\, CA\, 92025\, United States
CATEGORIES:Art,STEM / STEAM
ATTACH;FMTTYPE=image/png:https://visitcmod.org/wp-content/uploads/2025/10/garden-workshop-general.png
END:VEVENT
BEGIN:VEVENT
DTSTART;TZID=America/Los_Angeles:20260513T120000
DTEND;TZID=America/Los_Angeles:20260513T130000
DTSTAMP:20260423T100627
CREATED:20260416T190015Z
LAST-MODIFIED:20260416T190015Z
UID:10018086-1778673600-1778677200@visitcmod.org
SUMMARY:Family Workshop
DESCRIPTION:Color and paint the amazing fish who can light their own way using bioluminescence.
URL:https://visitcmod.org/events/family-workshop-96/2026-05-13/
LOCATION:Children’s Museum of Discovery\, 320 North Broadway\, Escondido\, CA\, 92025\, United States
CATEGORIES:Art,STEM / STEAM
ATTACH;FMTTYPE=image/jpeg:https://visitcmod.org/wp-content/uploads/2026/04/IMG_3679_square.jpg
END:VEVENT
BEGIN:VEVENT
DTSTART;TZID=America/Los_Angeles:20260513T140000
DTEND;TZID=America/Los_Angeles:20260513T143000
DTSTAMP:20260423T100627
CREATED:20251022T202338Z
LAST-MODIFIED:20260317T175903Z
UID:10015913-1778680800-1778682600@visitcmod.org
SUMMARY:Garden Workshop
DESCRIPTION:Enjoy a Garden Workshop with our Educators!
URL:https://visitcmod.org/events/garden-workshop-16/2026-05-13/
LOCATION:Children’s Museum of Discovery\, 320 North Broadway\, Escondido\, CA\, 92025\, United States
CATEGORIES:Art,STEM / STEAM
ATTACH;FMTTYPE=image/png:https://visitcmod.org/wp-content/uploads/2025/10/garden-workshop-general.png
END:VEVENT
BEGIN:VEVENT
DTSTART;TZID=America/Los_Angeles:20260513T150000
DTEND;TZID=America/Los_Angeles:20260513T160000
DTSTAMP:20260423T100627
CREATED:20260416T190057Z
LAST-MODIFIED:20260416T190057Z
UID:10018106-1778684400-1778688000@visitcmod.org
SUMMARY:Family Workshop
DESCRIPTION:Color and paint the amazing fish who can light their own way using bioluminescence.
URL:https://visitcmod.org/events/family-workshop-97/2026-05-13/
LOCATION:Children’s Museum of Discovery\, 320 North Broadway\, Escondido\, CA\, 92025\, United States
CATEGORIES:Art,STEM / STEAM
ATTACH;FMTTYPE=image/jpeg:https://visitcmod.org/wp-content/uploads/2026/04/IMG_3679_square.jpg
END:VEVENT
BEGIN:VEVENT
DTSTART;VALUE=DATE:20260514
DTEND;VALUE=DATE:20260515
DTSTAMP:20260423T100627
CREATED:20260413T191600Z
LAST-MODIFIED:20260413T191600Z
UID:10018027-1778716800-1778803199@visitcmod.org
SUMMARY:Big Exchange
DESCRIPTION:Did you know that our members get access to San Diego Museum Council’s Big Exchange? From May 1 to 18\, the Big Exchange gives Children’s Museum of Discovery members reciprocal admission to more than 50 museums\, historic sites\, gardens\, and other organizations throughout San Diego County. Showing your current membership card is all it takes to get free entry to any of the participating organizations. \n*Note: This excludes special events and cannot be combined with any other offers. \nView the list of participating museums here!
URL:https://visitcmod.org/events/big-exchange-3/2026-05-14/
LOCATION:Children’s Museum of Discovery\, 320 North Broadway\, Escondido\, CA\, 92025\, United States
ATTACH;FMTTYPE=image/png:https://visitcmod.org/wp-content/uploads/2026/04/big-exchange-cal-image-26.png
END:VEVENT
BEGIN:VEVENT
DTSTART;TZID=America/Los_Angeles:20260514T100000
DTEND;TZID=America/Los_Angeles:20260514T103000
DTSTAMP:20260423T100627
CREATED:20260406T175508Z
LAST-MODIFIED:20260406T203107Z
UID:10017965-1778752800-1778754600@visitcmod.org
SUMMARY:Bilingual Tortoise Talk
DESCRIPTION:Enjoy Tortoise Talk in Spanish! \nMeet Sebastian\, the 57 year old North American Desert Tortoise! Guests can get an up close look at Sebastian the tortoise and learn about his different adaptations.
URL:https://visitcmod.org/events/bilingual-tortoise-talk-3/2026-05-14/
LOCATION:Children’s Museum of Discovery\, 320 North Broadway\, Escondido\, CA\, 92025\, United States
CATEGORIES:Science
ATTACH;FMTTYPE=image/jpeg:https://visitcmod.org/wp-content/uploads/2024/07/Sebastian-The-Turtle.jpg
END:VEVENT
BEGIN:VEVENT
DTSTART;TZID=America/Los_Angeles:20260514T110000
DTEND;TZID=America/Los_Angeles:20260514T113000
DTSTAMP:20260423T100627
CREATED:20260123T194618Z
LAST-MODIFIED:20260416T190435Z
UID:10018124-1778756400-1778758200@visitcmod.org
SUMMARY:Bilingual Garden Workshop
DESCRIPTION:Enjoy a Garden Workshop with our Educators in Spanish!
URL:https://visitcmod.org/events/bilingual-garden-workshop-20/2026-05-14/
LOCATION:Children’s Museum of Discovery\, 320 North Broadway\, Escondido\, CA\, 92025\, United States
CATEGORIES:Art,STEM / STEAM
ATTACH;FMTTYPE=image/png:https://visitcmod.org/wp-content/uploads/2025/10/garden-workshop-general.png
END:VEVENT
BEGIN:VEVENT
DTSTART;TZID=America/Los_Angeles:20260514T120000
DTEND;TZID=America/Los_Angeles:20260514T130000
DTSTAMP:20260423T100627
CREATED:20260416T190204Z
LAST-MODIFIED:20260416T190204Z
UID:10018117-1778760000-1778763600@visitcmod.org
SUMMARY:Bilingual Family Workshop
DESCRIPTION:Enjoy a Family Workshop with our Educators in Spanish! \nColor and paint the amazing fish who can light their own way using bioluminescence.
URL:https://visitcmod.org/events/bilingual-family-workshop-42/2026-05-14/
LOCATION:Children’s Museum of Discovery\, 320 North Broadway\, Escondido\, CA\, 92025\, United States
CATEGORIES:Art,STEM / STEAM
ATTACH;FMTTYPE=image/jpeg:https://visitcmod.org/wp-content/uploads/2026/04/IMG_3679_square.jpg
END:VEVENT
BEGIN:VEVENT
DTSTART;TZID=America/Los_Angeles:20260514T140000
DTEND;TZID=America/Los_Angeles:20260514T143000
DTSTAMP:20260423T100627
CREATED:20260326T164558Z
LAST-MODIFIED:20260416T190452Z
UID:10018159-1778767200-1778769000@visitcmod.org
SUMMARY:Bilingual Garden Workshop
DESCRIPTION:Enjoy a Garden Workshop with our Educators in Spanish!
URL:https://visitcmod.org/events/bilingual-garden-workshop-21-2/2026-05-14/
LOCATION:Children’s Museum of Discovery\, 320 North Broadway\, Escondido\, CA\, 92025\, United States
CATEGORIES:Art,STEM / STEAM
ATTACH;FMTTYPE=image/png:https://visitcmod.org/wp-content/uploads/2025/10/garden-workshop-general.png
END:VEVENT
BEGIN:VEVENT
DTSTART;TZID=America/Los_Angeles:20260514T150000
DTEND;TZID=America/Los_Angeles:20260514T160000
DTSTAMP:20260423T100627
CREATED:20260416T190259Z
LAST-MODIFIED:20260416T190259Z
UID:10018121-1778770800-1778774400@visitcmod.org
SUMMARY:Bilingual Family Workshop
DESCRIPTION:Enjoy a Family Workshop with our Educators in Spanish! \nColor and paint the amazing fish who can light their own way using bioluminescence.
URL:https://visitcmod.org/events/bilingual-family-workshop-43/2026-05-14/
LOCATION:Children’s Museum of Discovery\, 320 North Broadway\, Escondido\, CA\, 92025\, United States
CATEGORIES:Art,STEM / STEAM
ATTACH;FMTTYPE=image/jpeg:https://visitcmod.org/wp-content/uploads/2026/04/IMG_3679_square.jpg
END:VEVENT
BEGIN:VEVENT
DTSTART;VALUE=DATE:20260515
DTEND;VALUE=DATE:20260516
DTSTAMP:20260423T100627
CREATED:20260413T191600Z
LAST-MODIFIED:20260413T191600Z
UID:10018028-1778803200-1778889599@visitcmod.org
SUMMARY:Big Exchange
DESCRIPTION:Did you know that our members get access to San Diego Museum Council’s Big Exchange? From May 1 to 18\, the Big Exchange gives Children’s Museum of Discovery members reciprocal admission to more than 50 museums\, historic sites\, gardens\, and other organizations throughout San Diego County. Showing your current membership card is all it takes to get free entry to any of the participating organizations. \n*Note: This excludes special events and cannot be combined with any other offers. \nView the list of participating museums here!
URL:https://visitcmod.org/events/big-exchange-3/2026-05-15/
LOCATION:Children’s Museum of Discovery\, 320 North Broadway\, Escondido\, CA\, 92025\, United States
ATTACH;FMTTYPE=image/png:https://visitcmod.org/wp-content/uploads/2026/04/big-exchange-cal-image-26.png
END:VEVENT
END:VCALENDAR